BEGIN:VCALENDAR
VERSION:2.0
PRODID:-//dsnmc.org//NONSGML kigkonsult.se iCalcreator 2.30.10//
CALSCALE:GREGORIAN
METHOD:PUBLISH
UID:f26bbd43-1deb-4f27-95ec-ab813b7b7c00
X-WR-CALDESC:The Creative Movement Program provides an engaging class to st
 art learning the fundamentals of dance technique and vocabulary. Focusing 
 on gross motor skills\, this class is taught using imagery\, fun games\, a
 nd music.\n\nParticipants should wear comfortable clothing\, such as leggi
 ngs and t-shirts. When selecting clothing\, please keep in mind that the c
 hildren may be doing some upside-down movements. Children should be barefo
 ot or wear ballet slippers. Children may bring a water bottle with them to
  class.\n\nTo register\, click on this link: https://dsnmc.networkforgood.
 com/events/50344-creative-movement-class\n\nParents are asked to remain ne
 arby while their children participate in the creative movement class.
X-WR-RELCALID:38ad57fa03f451902ef8b06629e31340
X-WR-TIMEZONE:America/New_York
BEGIN:VTIMEZONE
TZID:America/New_York
BEGIN:STANDARD
TZNAME:EST
DTSTART:20221106T020000
TZOFFSETFROM:-0400
TZOFFSETTO:-0500
RDATE:20231105T020000
END:STANDARD
BEGIN:DAYLIGHT
TZNAME:EDT
DTSTART:20220313T020000
TZOFFSETFROM:-0500
TZOFFSETTO:-0400
RDATE:20230312T020000
RDATE:20240310T020000
END:DAYLIGHT
END:VTIMEZONE
BEGIN:VEVENT
UID:0679ec3c-b44e-4d4b-9737-7b9cc89fc4b7
DTSTAMP:20260420T194105Z
DESCRIPTION:The Creative Movement Program provides an engaging class to sta
 rt learning the fundamentals of dance technique and vocabulary. Focusing o
 n gross motor skills\, this class is taught using imagery\, fun games\, an
 d music.\n\nParticipants should wear comfortable clothing\, such as leggin
 gs and t-shirts. When selecting clothing\, please keep in mind that the ch
 ildren may be doing some upside-down movements. Children should be barefoo
 t or wear ballet slippers. Children may bring a water bottle with them to 
 class.\n\nTo register\, click on this link: https://dsnmc.networkforgood.c
 om/events/50344-creative-movement-class\n\nParents are asked to remain nea
 rby while their children participate in the creative movement class.
DTSTART;TZID=America/New_York:20230108T120000
DTEND;TZID=America/New_York:20230108T124500
LOCATION:Metropolitan Ballet Theater and Academy\, 220 Perry Pkwy # 8 Gaith
 ersburg\, MD 20877\, Gaithersburg\, MD 20877 US
SUMMARY:Creative Movement class for 4 - 7 year olds
END:VEVENT
END:VCALENDAR
