BEGIN:VCALENDAR
VERSION:2.0
PRODID:-//dsnmc.org//NONSGML kigkonsult.se iCalcreator 2.30.10//
CALSCALE:GREGORIAN
METHOD:PUBLISH
UID:10c5147c-0d92-4eff-a317-7e3cf2d1936d
X-WR-CALDESC:Kelly Nelson from Maryland ABLE will provide a step by step ov
 erview of the Maryland ABLE enrollment process.  This presentation is inte
 nded for those who are already familiar with the eligibility criteria\, be
 nefits and features of  an ABLE account and are ready to take the next ste
 p.  Attendees will have the opportunity to view sample enrollment screens 
 and ask questions.
X-WR-RELCALID:82c42b2082d9c34c6b4b395ad09c80f2
X-WR-TIMEZONE:America/New_York
BEGIN:VTIMEZONE
TZID:America/New_York
BEGIN:STANDARD
TZNAME:EST
DTSTART:20221106T020000
TZOFFSETFROM:-0400
TZOFFSETTO:-0500
RDATE:20231105T020000
END:STANDARD
BEGIN:DAYLIGHT
TZNAME:EDT
DTSTART:20220313T020000
TZOFFSETFROM:-0500
TZOFFSETTO:-0400
RDATE:20230312T020000
RDATE:20240310T020000
END:DAYLIGHT
END:VTIMEZONE
BEGIN:VEVENT
UID:517be365-cef8-4b77-9d28-56e0ba6a9632
DTSTAMP:20260420T200001Z
DESCRIPTION:Kelly Nelson from Maryland ABLE will provide a step by step ove
 rview of the Maryland ABLE enrollment process.  This presentation is inten
 ded for those who are already familiar with the eligibility criteria\, ben
 efits and features of  an ABLE account and are ready to take the next step
 .  Attendees will have the opportunity to view sample enrollment screens a
 nd ask questions.
DTSTART;TZID=America/New_York:20230111T193000
DTEND;TZID=America/New_York:20230111T210000
LOCATION:https://dsnmc.networkforgood.com/events/49856-ready-to-open-a-mary
 land-able-account-walking-through-the-enrollment-process
SUMMARY:Ready to Open a Maryland ABLE Account:  Walking Through the Enrollm
 ent Process
END:VEVENT
END:VCALENDAR
