BEGIN:VCALENDAR
VERSION:2.0
PRODID:-//dsnmc.org//NONSGML kigkonsult.se iCalcreator 2.30.10//
CALSCALE:GREGORIAN
METHOD:PUBLISH
UID:834c3be2-3b3a-4f69-9dc2-edd5eb89a8f1
X-WR-CALDESC:Let’s delve into the nuts and bolts of IEP goals and objective
 s and learn more about the\nimportance of having a proactive approach to c
 ollecting data at home. Tips will be offered on\nsynthesizing information 
 from classwork\, how to collect information from homework\nobservations\, 
 and how to use information from your child’s preferences and out-of-school
 \nactivities. Give your child credit for their unique gifts\, and include 
 that data in the IEP.
X-WR-RELCALID:f24bd07697a8188a974ac26536b89bc2
X-WR-TIMEZONE:America/New_York
BEGIN:VTIMEZONE
TZID:America/New_York
BEGIN:STANDARD
TZNAME:EST
DTSTART:20221106T020000
TZOFFSETFROM:-0400
TZOFFSETTO:-0500
RDATE:20231105T020000
END:STANDARD
BEGIN:DAYLIGHT
TZNAME:EDT
DTSTART:20220313T020000
TZOFFSETFROM:-0500
TZOFFSETTO:-0400
RDATE:20230312T020000
RDATE:20240310T020000
END:DAYLIGHT
END:VTIMEZONE
BEGIN:VEVENT
UID:19f84612-afce-4980-af6b-a26b4c5a6f50
DTSTAMP:20260420T194842Z
DESCRIPTION:Let’s delve into the nuts and bolts of IEP goals and objectives
  and learn more about the\nimportance of having a proactive approach to co
 llecting data at home. Tips will be offered on\nsynthesizing information f
 rom classwork\, how to collect information from homework\nobservations\, a
 nd how to use information from your child’s preferences and out-of-school
 \nactivities. Give your child credit for their unique gifts\, and include 
 that data in the IEP.
DTSTART;TZID=America/New_York:20230118T193000
DTEND;TZID=America/New_York:20230118T210000
LOCATION:https://dsnmc.networkforgood.com/events/50588-individualized-educa
 tion-plan-iep-goals-objectives-and-home-tracking
SUMMARY:Individualized Education Plans: Goals\, Objectives and Home Trackin
 g
END:VEVENT
END:VCALENDAR
