BEGIN:VCALENDAR
VERSION:2.0
PRODID:-//dsnmc.org//NONSGML kigkonsult.se iCalcreator 2.30.10//
CALSCALE:GREGORIAN
METHOD:PUBLISH
UID:3ea2b4d7-0f37-49ec-9a8b-48557984caa5
X-WR-CALDESC:The DSNMC Education Committee is now meeting on the third Thur
 sday of each month from 7:15 pm-8:30 pm. \n\nCo-chairs: \nKalani Brown (ka
 laniuke@hotmail.com) and Carrie Swann (carrie.swann@gmail.com)\n\nJoin Zoo
 m Meeting\nhttps://us02web.zoom.us/j/86288520613?pwd=TmIyZ3JDcmVCRUNuanRRW
 WNwT2h6QT09\n\nMeeting ID: 862 8852 0613\nPasscode: 785188\nOne tap mobile
 \n+13017158592
X-WR-RELCALID:edc4bdae14b9eeb66aa0d5fa962dfa2d
X-WR-TIMEZONE:America/New_York
BEGIN:VTIMEZONE
TZID:America/New_York
BEGIN:STANDARD
TZNAME:EST
DTSTART:20221106T020000
TZOFFSETFROM:-0400
TZOFFSETTO:-0500
RDATE:20231105T020000
END:STANDARD
BEGIN:DAYLIGHT
TZNAME:EDT
DTSTART:20220313T020000
TZOFFSETFROM:-0500
TZOFFSETTO:-0400
RDATE:20230312T020000
RDATE:20240310T020000
END:DAYLIGHT
END:VTIMEZONE
BEGIN:VEVENT
UID:79a67967-b80b-4d33-9ff3-b81f83aefb81
DTSTAMP:20260420T194907Z
DESCRIPTION:The DSNMC Education Committee is now meeting on the third Thurs
 day of each month from 7:15 pm-8:30 pm. \n\nCo-chairs: \nKalani Brown (kal
 aniuke@hotmail.com) and Carrie Swann (carrie.swann@gmail.com)\n\nJoin Zoom
  Meeting\nhttps://us02web.zoom.us/j/86288520613?pwd=TmIyZ3JDcmVCRUNuanRRWW
 NwT2h6QT09\n\nMeeting ID: 862 8852 0613\nPasscode: 785188\nOne tap mobile
 \n+13017158592
DTSTART;TZID=America/New_York:20230119T190000
DTEND;TZID=America/New_York:20230119T200000
LOCATION:https://us02web.zoom.us/j/86288520613?pwd=TmIyZ3JDcmVCRUNuanRRWWNw
 T2h6QT09
SUMMARY:DSNMC Education Committee Meeting
END:VEVENT
END:VCALENDAR
