BEGIN:VCALENDAR
VERSION:2.0
PRODID:-//dsnmc.org//NONSGML kigkonsult.se iCalcreator 2.30.10//
CALSCALE:GREGORIAN
METHOD:PUBLISH
UID:d6c60adb-2b7b-40d3-a38a-c5d1ee612f3a
X-WR-CALDESC:We’re excited to announce that we\, along with\, F.R.I.E.N.D.S
 .\, and Down Syndrome Association of Maryland\, DSNMC have partnered with 
 National Down Syndrome Congress this year to make this year's Techniques f
 or Success conference even bigger and better!\n\nClick here to Register: h
 ttps://www.techniquesforsuccess.org/
X-WR-RELCALID:7a2c65dbd0871a0f1b74e74aaa92cf90
X-WR-TIMEZONE:America/New_York
BEGIN:VTIMEZONE
TZID:America/New_York
BEGIN:STANDARD
TZNAME:EST
DTSTART:20221106T020000
TZOFFSETFROM:-0400
TZOFFSETTO:-0500
RDATE:20231105T020000
END:STANDARD
BEGIN:DAYLIGHT
TZNAME:EDT
DTSTART:20220313T020000
TZOFFSETFROM:-0500
TZOFFSETTO:-0400
RDATE:20230312T020000
RDATE:20240310T020000
END:DAYLIGHT
END:VTIMEZONE
BEGIN:VEVENT
UID:ecd7a2d6-5372-4bd0-a278-3b20b999fdb4
DTSTAMP:20260420T183527Z
DESCRIPTION:We’re excited to announce that we\, along with\, F.R.I.E.N.D.S.
 \, and Down Syndrome Association of Maryland\, DSNMC have partnered with N
 ational Down Syndrome Congress this year to make this year's Techniques fo
 r Success conference even bigger and better!\n\nClick here to Register: ht
 tps://www.techniquesforsuccess.org/
DTSTART;TZID=America/New_York:20230211T090000
DTEND;TZID=America/New_York:20230211T150000
LOCATION:2700 Turf Valley Road\, Ellicott City\, MD 21042 US
SUMMARY:Techniques for Success Conference
END:VEVENT
END:VCALENDAR
