BEGIN:VCALENDAR
VERSION:2.0
PRODID:-//dsnmc.org//NONSGML kigkonsult.se iCalcreator 2.30.10//
CALSCALE:GREGORIAN
METHOD:PUBLISH
UID:07377245-3f3d-45ea-9560-35a9550fe51b
X-WR-CALDESC:Únase a nuestras reuniones en español el segundo lunes de cada
  mes. Envíe un correo electrónico a nuestro coordinador de grupo latino pa
 ra recibir la información de la reunión de Zoom.\n\nCome join our all-Span
 ish meetings the second Monday of every month. Email our Latino group coor
 dinator to receive the Zoom meeting information.
X-WR-RELCALID:b2b30405b7bc6426d231b5ee3333b417
X-WR-TIMEZONE:America/New_York
BEGIN:VTIMEZONE
TZID:America/New_York
BEGIN:STANDARD
TZNAME:EST
DTSTART:20221106T020000
TZOFFSETFROM:-0400
TZOFFSETTO:-0500
RDATE:20231105T020000
END:STANDARD
BEGIN:DAYLIGHT
TZNAME:EDT
DTSTART:20220313T020000
TZOFFSETFROM:-0500
TZOFFSETTO:-0400
RDATE:20230312T020000
RDATE:20240310T020000
END:DAYLIGHT
END:VTIMEZONE
BEGIN:VEVENT
UID:a9bac2dc-134e-4ab7-84fc-6b6c283dbc65
DTSTAMP:20260420T184018Z
DESCRIPTION:Únase a nuestras reuniones en español el segundo lunes de cada 
 mes. Envíe un correo electrónico a nuestro coordinador de grupo latino par
 a recibir la información de la reunión de Zoom.\n\nCome join our all-Spani
 sh meetings the second Monday of every month. Email our Latino group coord
 inator to receive the Zoom meeting information.
DTSTART;TZID=America/New_York:20230213T193000
DTEND;TZID=America/New_York:20230213T210000
LOCATION:https://us02web.zoom.us/j/85698498039
SUMMARY:DSNMC Latino Group Meetings
END:VEVENT
END:VCALENDAR
