BEGIN:VCALENDAR
VERSION:2.0
PRODID:-//dsnmc.org//NONSGML kigkonsult.se iCalcreator 2.30.10//
CALSCALE:GREGORIAN
METHOD:PUBLISH
UID:1c92d72c-02d9-4083-a7ec-f382febad70e
X-WR-CALDESC:Come prepared with your questions about IEP meeting best pract
 ices\, and leave with additional\nperspectives on topics such as communica
 ting with school staff and documenting parental\nconcerns. This will be an
  interactive session to answer questions about commonly occurring\nscenari
 os\, and is not intended to be legal advice.
X-WR-RELCALID:cd0f68d692e1035a4d8dc2fa5362a5bf
X-WR-TIMEZONE:America/New_York
BEGIN:VTIMEZONE
TZID:America/New_York
BEGIN:STANDARD
TZNAME:EST
DTSTART:20221106T020000
TZOFFSETFROM:-0400
TZOFFSETTO:-0500
RDATE:20231105T020000
END:STANDARD
BEGIN:DAYLIGHT
TZNAME:EDT
DTSTART:20220313T020000
TZOFFSETFROM:-0500
TZOFFSETTO:-0400
RDATE:20230312T020000
RDATE:20240310T020000
END:DAYLIGHT
END:VTIMEZONE
BEGIN:VEVENT
UID:6e64271f-61e5-48b1-9f68-99c56e355eaa
DTSTAMP:20260420T183942Z
DESCRIPTION:Come prepared with your questions about IEP meeting best practi
 ces\, and leave with additional\nperspectives on topics such as communicat
 ing with school staff and documenting parental\nconcerns. This will be an 
 interactive session to answer questions about commonly occurring\nscenario
 s\, and is not intended to be legal advice.
DTSTART;TZID=America/New_York:20230215T193000
DTEND;TZID=America/New_York:20230215T210000
LOCATION:https://dsnmc.networkforgood.com/events/50593-ask-an-educational-a
 dvocate
SUMMARY:Ask An Educational Advocate
END:VEVENT
END:VCALENDAR
