BEGIN:VCALENDAR
VERSION:2.0
PRODID:-//dsnmc.org//NONSGML kigkonsult.se iCalcreator 2.30.10//
CALSCALE:GREGORIAN
METHOD:PUBLISH
UID:012a58d2-2ca8-4963-ad6d-e626b5eb3988
X-WR-CALDESC:Join DSNMC families for an hour of fun and ice skating. The st
 udio rink has been reserved solely for DSNMC. Cabin John Rink will provide
  a limited number of 'trainers' to provide extra support to 'new' skaters.
 \n\nWe suggest that skaters bring helmets to wear when they are on the ice
 .\n\nPre-registration is required\, and the cost for skaters is $5.00. Ska
 te rentals are an additional $4.00 per person and will be paid at the rink
 \, We encourage you to arrive early so that you have time to rent and put 
 on skates prior to 5:00 pm.
X-WR-RELCALID:9052128874942497bf5406f5761a1c46
X-WR-TIMEZONE:America/New_York
BEGIN:VTIMEZONE
TZID:America/New_York
BEGIN:STANDARD
TZNAME:EST
DTSTART:20221106T020000
TZOFFSETFROM:-0400
TZOFFSETTO:-0500
RDATE:20231105T020000
END:STANDARD
BEGIN:DAYLIGHT
TZNAME:EDT
DTSTART:20220313T020000
TZOFFSETFROM:-0500
TZOFFSETTO:-0400
RDATE:20230312T020000
RDATE:20240310T020000
END:DAYLIGHT
END:VTIMEZONE
BEGIN:VEVENT
UID:4139f195-55f3-44d4-8680-68d453820b9a
DTSTAMP:20260420T184029Z
DESCRIPTION:Join DSNMC families for an hour of fun and ice skating. The stu
 dio rink has been reserved solely for DSNMC. Cabin John Rink will provide 
 a limited number of 'trainers' to provide extra support to 'new' skaters.
 \n\nWe suggest that skaters bring helmets to wear when they are on the ice
 .\n\nPre-registration is required\, and the cost for skaters is $5.00. Ska
 te rentals are an additional $4.00 per person and will be paid at the rink
 \, We encourage you to arrive early so that you have time to rent and put 
 on skates prior to 5:00 pm.
DTSTART;TZID=America/New_York:20230218T170000
DTEND;TZID=America/New_York:20230218T180000
LOCATION:Cabin John Studio Rink\, 10610 Westlake Drive\, Rockville\, MD 208
 52 US
SUMMARY:DSNMC Family Skating Outing
END:VEVENT
END:VCALENDAR
