BEGIN:VCALENDAR
VERSION:2.0
PRODID:-//dsnmc.org//NONSGML kigkonsult.se iCalcreator 2.30.10//
CALSCALE:GREGORIAN
METHOD:PUBLISH
UID:eedaf86d-9fa9-4d27-bf4f-8d59f0a62229
X-WR-CALDESC:
X-WR-RELCALID:63f129b68d4ce4189c2b5ea6e72dc521
X-WR-TIMEZONE:America/New_York
BEGIN:VTIMEZONE
TZID:America/New_York
BEGIN:STANDARD
TZNAME:EST
DTSTART:20221106T020000
TZOFFSETFROM:-0400
TZOFFSETTO:-0500
RDATE:20231105T020000
END:STANDARD
BEGIN:DAYLIGHT
TZNAME:EDT
DTSTART:20220313T020000
TZOFFSETFROM:-0500
TZOFFSETTO:-0400
RDATE:20230312T020000
RDATE:20240310T020000
END:DAYLIGHT
END:VTIMEZONE
BEGIN:VEVENT
UID:5affe10b-9f96-4ddf-bc57-f17c23e485c7
DTSTAMP:20260420T183810Z
DESCRIPTION:
DTSTART;TZID=America/New_York:20230220T190000
DTEND;TZID=America/New_York:20230220T210000
LOCATION:
SUMMARY:Board Meeting
END:VEVENT
END:VCALENDAR
