BEGIN:VCALENDAR
VERSION:2.0
PRODID:-//dsnmc.org//NONSGML kigkonsult.se iCalcreator 2.30.10//
CALSCALE:GREGORIAN
METHOD:PUBLISH
UID:7bc5c449-9234-4fd5-ac66-175a9e594bf4
X-WR-CALDESC:The DSNMC Education Committee is now meeting on the third Thur
 sday of each month from 7:15 pm-8:30 pm. \n\nCo-chairs: \nKalani Brown (ka
 laniuke@hotmail.com) and Carrie Swann (carrie.swann@gmail.com)\n\nJoin Zoo
 m Meeting\nhttps://us02web.zoom.us/j/86288520613?pwd=TmIyZ3JDcmVCRUNuanRRW
 WNwT2h6QT09\n\nMeeting ID: 862 8852 0613\nPasscode: 785188\nOne tap mobile
 \n+13017158592
X-WR-RELCALID:d8ff6e7b607d52e4939d30b92e501dcc
X-WR-TIMEZONE:America/New_York
BEGIN:VTIMEZONE
TZID:America/New_York
BEGIN:STANDARD
TZNAME:EST
DTSTART:20221106T020000
TZOFFSETFROM:-0400
TZOFFSETTO:-0500
RDATE:20231105T020000
END:STANDARD
BEGIN:DAYLIGHT
TZNAME:EDT
DTSTART:20220313T020000
TZOFFSETFROM:-0500
TZOFFSETTO:-0400
RDATE:20230312T020000
RDATE:20240310T020000
END:DAYLIGHT
END:VTIMEZONE
BEGIN:VEVENT
UID:1c206294-cb2f-4556-ac1c-5eed2387b02c
DTSTAMP:20260420T184146Z
DESCRIPTION:The DSNMC Education Committee is now meeting on the third Thurs
 day of each month from 7:15 pm-8:30 pm. \n\nCo-chairs: \nKalani Brown (kal
 aniuke@hotmail.com) and Carrie Swann (carrie.swann@gmail.com)\n\nJoin Zoom
  Meeting\nhttps://us02web.zoom.us/j/86288520613?pwd=TmIyZ3JDcmVCRUNuanRRWW
 NwT2h6QT09\n\nMeeting ID: 862 8852 0613\nPasscode: 785188\nOne tap mobile
 \n+13017158592
DTSTART;TZID=America/New_York:20230222T190000
DTEND;TZID=America/New_York:20230222T200000
LOCATION:https://us02web.zoom.us/j/86288520613?pwd=TmIyZ3JDcmVCRUNuanRRWWNw
 T2h6QT09
SUMMARY:DSNMC Education Committee Meeting
END:VEVENT
END:VCALENDAR
