BEGIN:VCALENDAR
VERSION:2.0
PRODID:-//dsnmc.org//NONSGML kigkonsult.se iCalcreator 2.30.10//
CALSCALE:GREGORIAN
METHOD:PUBLISH
UID:7b4e3bd2-fb5b-46bc-b371-be5a8dfcd7c7
X-WR-CALDESC:DSNMC is thrilled that our winter dance will return in person 
 in 2023!!!  As we are leading up to World Down Syndrome Day on March 21st\
 , this year's theme is 'Rock Your Socks.' A-Squad Entertainment will provi
 de music and we will have dinner\, crafts\, a photo booth and resource tab
 les. You won't want to miss this fun family event - get your tickets today
 !  Click here to register: https://dsnmc.networkforgood.com/events/51526-r
 ock-your-socks-dsnmc-winter-dance
X-WR-RELCALID:cce0717f85078e2f5a4528a7124c0523
X-WR-TIMEZONE:America/New_York
BEGIN:VTIMEZONE
TZID:America/New_York
BEGIN:STANDARD
TZNAME:EST
DTSTART:20221106T020000
TZOFFSETFROM:-0400
TZOFFSETTO:-0500
RDATE:20231105T020000
END:STANDARD
BEGIN:DAYLIGHT
TZNAME:EDT
DTSTART:20220313T020000
TZOFFSETFROM:-0500
TZOFFSETTO:-0400
RDATE:20230312T020000
RDATE:20240310T020000
END:DAYLIGHT
END:VTIMEZONE
BEGIN:VEVENT
UID:b8578945-9af1-4d93-b7da-9089c76c21e2
DTSTAMP:20260420T184142Z
DESCRIPTION:DSNMC is thrilled that our winter dance will return in person i
 n 2023!!!  As we are leading up to World Down Syndrome Day on March 21st\,
  this year's theme is 'Rock Your Socks.' A-Squad Entertainment will provid
 e music and we will have dinner\, crafts\, a photo booth and resource tabl
 es. You won't want to miss this fun family event - get your tickets today!
   Click here to register: https://dsnmc.networkforgood.com/events/51526-ro
 ck-your-socks-dsnmc-winter-dance
DTSTART;TZID=America/New_York:20230225T173000
DTEND;TZID=America/New_York:20230225T210000
LOCATION:North Potomac Recreation Center\, 13850 Travilah Road\, Rockville\
 , MD 20850 US
SUMMARY:DSNMC Rock Your Socks Winter Dance
END:VEVENT
END:VCALENDAR
