BEGIN:VCALENDAR
VERSION:2.0
PRODID:-//dsnmc.org//NONSGML kigkonsult.se iCalcreator 2.30.10//
CALSCALE:GREGORIAN
METHOD:PUBLISH
UID:267edd76-d6a7-41cf-99ee-523052f2da53
X-WR-CALDESC:Our Positively Speaking Workshop series\, offered by ArtStream
 \, is geared toward self-advocates over the age of 18. Self-advocates will
  have the opportunity to practice social skills with peers within the cont
 ext of games and each class will have a different theme.  Parents will mee
 t in a separate room to share resources\, discuss joys and concerns and li
 sten to guest speakers.\n\nTo register for the February workshop\, please 
 click on this link:https://dsnmc.networkforgood.com/events/51515-february-
 positively-speaking-by-artstream
X-WR-RELCALID:96b1488b082448c7ca64e500f79e93b2
X-WR-TIMEZONE:America/New_York
BEGIN:VTIMEZONE
TZID:America/New_York
BEGIN:STANDARD
TZNAME:EST
DTSTART:20221106T020000
TZOFFSETFROM:-0400
TZOFFSETTO:-0500
RDATE:20231105T020000
END:STANDARD
BEGIN:DAYLIGHT
TZNAME:EDT
DTSTART:20220313T020000
TZOFFSETFROM:-0500
TZOFFSETTO:-0400
RDATE:20230312T020000
RDATE:20240310T020000
END:DAYLIGHT
END:VTIMEZONE
BEGIN:VEVENT
UID:002857d8-c492-4355-be28-d857538fc40b
DTSTAMP:20260420T183942Z
DESCRIPTION:Our Positively Speaking Workshop series\, offered by ArtStream\
 , is geared toward self-advocates over the age of 18. Self-advocates will 
 have the opportunity to practice social skills with peers within the conte
 xt of games and each class will have a different theme.  Parents will meet
  in a separate room to share resources\, discuss joys and concerns and lis
 ten to guest speakers.\n\nTo register for the February workshop\, please c
 lick on this link:https://dsnmc.networkforgood.com/events/51515-february-p
 ositively-speaking-by-artstream
DTSTART;TZID=America/New_York:20230226T150000
DTEND;TZID=America/New_York:20230226T163000
LOCATION:North Chevy Chase Christian Church\,  8814 Kensington Pkwy\, Chevy
  Chase\, MD 20815 US
SUMMARY:Positively Speaking Workshop\, Self Advocates
END:VEVENT
END:VCALENDAR
