BEGIN:VCALENDAR
VERSION:2.0
PRODID:-//dsnmc.org//NONSGML kigkonsult.se iCalcreator 2.30.10//
CALSCALE:GREGORIAN
METHOD:PUBLISH
UID:cc65f2ff-91fc-4df6-bcd2-430f155887b3
X-WR-CALDESC:Come by for some LEGO® building fun!\n\nCome by anytime betwee
 n 2-4 p.m. for some LEGO® building fun. The library will supply the LEGO®s
  and you supply the imagination! Gaithersburg Library has both regular LEG
 O®s and larger Duplo LEGO®s!\n\nFor Preschool to Grade 5th. Parents/caregi
 vers MUST accompany children under the age of 12 during the program. \n\nC
 o-sponsored by Friends of the Library\, Montgomery County.
X-WR-RELCALID:d0207c320b6d0b2eddf9e5b7c5aa2215
X-WR-TIMEZONE:America/New_York
BEGIN:VTIMEZONE
TZID:America/New_York
BEGIN:STANDARD
TZNAME:EST
DTSTART:20221106T020000
TZOFFSETFROM:-0400
TZOFFSETTO:-0500
RDATE:20231105T020000
END:STANDARD
BEGIN:DAYLIGHT
TZNAME:EDT
DTSTART:20220313T020000
TZOFFSETFROM:-0500
TZOFFSETTO:-0400
RDATE:20230312T020000
RDATE:20240310T020000
END:DAYLIGHT
END:VTIMEZONE
BEGIN:VEVENT
UID:8dc60ad0-4e96-490d-89ab-0ed327c093c4
DTSTAMP:20260420T172622Z
DESCRIPTION:Come by for some LEGO® building fun!\n\nCome by anytime between
  2-4 p.m. for some LEGO® building fun. The library will supply the LEGO®s 
 and you supply the imagination! Gaithersburg Library has both regular LEGO
 ®s and larger Duplo LEGO®s!\n\nFor Preschool to Grade 5th. Parents/caregiv
 ers MUST accompany children under the age of 12 during the program. \n\nCo
 -sponsored by Friends of the Library\, Montgomery County.
DTSTART;TZID=America/New_York:20230304T140000
DTEND;TZID=America/New_York:20230304T160000
LOCATION:18330 Montgomery Village Avenue\, Gaithersburg\, MD 20879 US
SUMMARY:Family Lego Afternoon
END:VEVENT
END:VCALENDAR
