BEGIN:VCALENDAR
VERSION:2.0
PRODID:-//dsnmc.org//NONSGML kigkonsult.se iCalcreator 2.30.10//
CALSCALE:GREGORIAN
METHOD:PUBLISH
UID:df1ce7e1-07aa-4562-82c3-da0eeb91786f
X-WR-CALDESC:
X-WR-RELCALID:fed34ca38f7029a853b99ce2da8a6a01
X-WR-TIMEZONE:America/New_York
BEGIN:VTIMEZONE
TZID:America/New_York
BEGIN:STANDARD
TZNAME:EST
DTSTART:20221106T020000
TZOFFSETFROM:-0400
TZOFFSETTO:-0500
RDATE:20231105T020000
END:STANDARD
BEGIN:DAYLIGHT
TZNAME:EDT
DTSTART:20220313T020000
TZOFFSETFROM:-0500
TZOFFSETTO:-0400
RDATE:20230312T020000
RDATE:20240310T020000
END:DAYLIGHT
END:VTIMEZONE
BEGIN:VEVENT
UID:0b4324fb-bf61-4890-91e5-86d1cbc40e50
DTSTAMP:20260420T171407Z
DESCRIPTION:
DTSTART;TZID=America/New_York:20230313T200000
DTEND;TZID=America/New_York:20230313T210000
LOCATION:
SUMMARY:Executive Committee Meeting
END:VEVENT
END:VCALENDAR
