BEGIN:VCALENDAR
VERSION:2.0
PRODID:-//dsnmc.org//NONSGML kigkonsult.se iCalcreator 2.30.10//
CALSCALE:GREGORIAN
METHOD:PUBLISH
UID:57772c6a-3ac0-459c-b6f1-a009738c7dcb
X-WR-CALDESC:In celebration of World Down Syndrome Day\, El Andariego is of
 fering DSNMC 15% of its proceeds all day on March 15th.  You can dine in\,
  or carry-out.  Please mention DSNMC when ordering/paying.  \nTo learn mor
 e about El Andariego\, click on this link: https://elandariegorestaurant.c
 om/
X-WR-RELCALID:63e4de4f9189d22b18138ae19155ef64
X-WR-TIMEZONE:America/New_York
BEGIN:VTIMEZONE
TZID:America/New_York
BEGIN:STANDARD
TZNAME:EST
DTSTART:20221106T020000
TZOFFSETFROM:-0400
TZOFFSETTO:-0500
RDATE:20231105T020000
END:STANDARD
BEGIN:DAYLIGHT
TZNAME:EDT
DTSTART:20230312T020000
TZOFFSETFROM:-0500
TZOFFSETTO:-0400
RDATE:20240310T020000
END:DAYLIGHT
END:VTIMEZONE
BEGIN:VEVENT
UID:0e4b0304-a391-43bb-be26-a1bbc86a4257
DTSTAMP:20260420T172742Z
DESCRIPTION:In celebration of World Down Syndrome Day\, El Andariego is off
 ering DSNMC 15% of its proceeds all day on March 15th.  You can dine in\, 
 or carry-out.  Please mention DSNMC when ordering/paying.  \nTo learn more
  about El Andariego\, click on this link: https://elandariegorestaurant.co
 m/
DTSTART;TZID=America/New_York:20230315T110000
DTEND;TZID=America/New_York:20230315T210000
LOCATION:5 Olney Sandy Spring Road\, Ashton\, MD 20861 US
SUMMARY:DSNMC Fundaiser with El Andariego
END:VEVENT
END:VCALENDAR
