BEGIN:VCALENDAR
VERSION:2.0
PRODID:-//dsnmc.org//NONSGML kigkonsult.se iCalcreator 2.30.10//
CALSCALE:GREGORIAN
METHOD:PUBLISH
UID:a2c85b80-59f2-4711-ae8d-8a106ab5cd5a
X-WR-CALDESC:Thanks to a  generous donation from Ginny Colten-Bradley\, DSN
 MC is able to offer 3 pairs of tickets to the Metropolitan Ballet's perfor
 mance of Sleeping Beauty on Saturday\, March 18th at 1:00 pm. To maximize 
 the number of families who can attend this event\, each family may only re
 quest 2 tickets. These seats are unassigned\; you may click HERE to buy ad
 ditional tickets for your family members.\n\nCome see this exciting versio
 n of The Sleeping Beauty set to Tchaikovsky’s magical score on March 18th\
 , 2023. Watch as the strong and beautiful Lilac Fairy\, and the faithful G
 ood Fairies protect Princess Aurora from the Evil Fairy Carabosse. With ma
 gical spells\, elegant ballet dancing\, and the scary Dragon Maleficent\, 
 this ballet is sure to engage and excite audience members of all ages.\n\n
 To reserve your tickets\, click here: https://dsnmc.networkforgood.com/eve
 nts/54450-sleeping-beauty
X-WR-RELCALID:36d32903157e8897b273db3791cbe61b
X-WR-TIMEZONE:America/New_York
BEGIN:VTIMEZONE
TZID:America/New_York
BEGIN:STANDARD
TZNAME:EST
DTSTART:20221106T020000
TZOFFSETFROM:-0400
TZOFFSETTO:-0500
RDATE:20231105T020000
END:STANDARD
BEGIN:DAYLIGHT
TZNAME:EDT
DTSTART:20230312T020000
TZOFFSETFROM:-0500
TZOFFSETTO:-0400
RDATE:20240310T020000
END:DAYLIGHT
END:VTIMEZONE
BEGIN:VEVENT
UID:db802114-7c0a-4faa-bb73-3dc9b78cb7a3
DTSTAMP:20260420T171402Z
DESCRIPTION:Thanks to a  generous donation from Ginny Colten-Bradley\, DSNM
 C is able to offer 3 pairs of tickets to the Metropolitan Ballet's perform
 ance of Sleeping Beauty on Saturday\, March 18th at 1:00 pm. To maximize t
 he number of families who can attend this event\, each family may only req
 uest 2 tickets. These seats are unassigned\; you may click HERE to buy add
 itional tickets for your family members.\n\nCome see this exciting version
  of The Sleeping Beauty set to Tchaikovsky’s magical score on March 18th\,
  2023. Watch as the strong and beautiful Lilac Fairy\, and the faithful Go
 od Fairies protect Princess Aurora from the Evil Fairy Carabosse. With mag
 ical spells\, elegant ballet dancing\, and the scary Dragon Maleficent\, t
 his ballet is sure to engage and excite audience members of all ages.\n\nT
 o reserve your tickets\, click here: https://dsnmc.networkforgood.com/even
 ts/54450-sleeping-beauty
DTSTART;TZID=America/New_York:20230318T130000
DTEND;TZID=America/New_York:20230318T150000
LOCATION:Montgomery College Performing Arts Center\, 51 Manakee Streeet\, R
 ockville\, MD 20850 US
SUMMARY:Sleeping Beauty Ballet
END:VEVENT
END:VCALENDAR
