BEGIN:VCALENDAR
VERSION:2.0
PRODID:-//dsnmc.org//NONSGML kigkonsult.se iCalcreator 2.30.10//
CALSCALE:GREGORIAN
METHOD:PUBLISH
UID:29a15261-023a-4ce0-b6b8-33819a5235aa
X-WR-CALDESC:You won't want to miss this opportunity to see award-winning m
 agicians The Great Zucchini and Abracadabra Alex perform magic tricks to d
 elight both children and adults. All proceeds from this event will support
  DSNMC programs and initiatives. Spaces are limited for this special event
  - register today!\n
X-WR-RELCALID:a4eab79ccddfc6f2bf9853ec6d96b988
X-WR-TIMEZONE:America/New_York
BEGIN:VTIMEZONE
TZID:America/New_York
BEGIN:STANDARD
TZNAME:EST
DTSTART:20221106T020000
TZOFFSETFROM:-0400
TZOFFSETTO:-0500
RDATE:20231105T020000
END:STANDARD
BEGIN:DAYLIGHT
TZNAME:EDT
DTSTART:20230312T020000
TZOFFSETFROM:-0500
TZOFFSETTO:-0400
RDATE:20240310T020000
END:DAYLIGHT
END:VTIMEZONE
BEGIN:VEVENT
UID:8940a453-71cf-46ea-9691-441ee07ad3e5
DTSTAMP:20260420T172043Z
DESCRIPTION:You won't want to miss this opportunity to see award-winning ma
 gicians The Great Zucchini and Abracadabra Alex perform magic tricks to de
 light both children and adults. All proceeds from this event will support 
 DSNMC programs and initiatives. Spaces are limited for this special event 
 - register today!\n
DTSTART;TZID=America/New_York:20230319T110000
DTEND;TZID=America/New_York:20230319T120000
LOCATION:Clara Barton Rec Center\, 7425 Macarthur Blvd\, Cabin John\, MD 20
 818 US
SUMMARY:Magic show
END:VEVENT
END:VCALENDAR
