BEGIN:VCALENDAR
VERSION:2.0
PRODID:-//dsnmc.org//NONSGML kigkonsult.se iCalcreator 2.30.10//
CALSCALE:GREGORIAN
METHOD:PUBLISH
UID:0dd3a60d-1b7e-4e42-95c8-dec3e3a158cc
X-WR-CALDESC:
X-WR-RELCALID:62d93595ad74191266a8521c9b33d493
X-WR-TIMEZONE:America/New_York
BEGIN:VTIMEZONE
TZID:America/New_York
BEGIN:STANDARD
TZNAME:EST
DTSTART:20221106T020000
TZOFFSETFROM:-0400
TZOFFSETTO:-0500
RDATE:20231105T020000
END:STANDARD
BEGIN:DAYLIGHT
TZNAME:EDT
DTSTART:20230312T020000
TZOFFSETFROM:-0500
TZOFFSETTO:-0400
RDATE:20240310T020000
END:DAYLIGHT
END:VTIMEZONE
BEGIN:VEVENT
UID:be54e48f-b778-4b8e-bbef-dc7153596de5
DTSTAMP:20260420T172615Z
DESCRIPTION:
DTSTART;TZID=America/New_York:20230320T190000
DTEND;TZID=America/New_York:20230320T210000
LOCATION:
SUMMARY:Board Meeting
END:VEVENT
END:VCALENDAR
