BEGIN:VCALENDAR
VERSION:2.0
PRODID:-//dsnmc.org//NONSGML kigkonsult.se iCalcreator 2.30.10//
CALSCALE:GREGORIAN
METHOD:PUBLISH
UID:1e9d460c-955f-4f1b-ab94-dd000b4228c8
X-WR-CALDESC:Our Positively Speaking Workshop series\, offered by ArtStream
 \, is geared toward self-advocates over the age of 18. Self-advocates will
  have the opportunity to practice social skills with peers within the cont
 ext of games and each class will have a different theme.  Parents will mee
 t in a separate room to share resources\, discuss joys and concerns and li
 sten to guest speakers.\n\nTo register for the March workshop\, please cli
 ck on this link: https://dsnmc.networkforgood.com/events/51516-march-posit
 ively-speaking-by-artstream
X-WR-RELCALID:3a135b8d71ecf8905cea83c44d3ea685
X-WR-TIMEZONE:America/New_York
BEGIN:VTIMEZONE
TZID:America/New_York
BEGIN:STANDARD
TZNAME:EST
DTSTART:20221106T020000
TZOFFSETFROM:-0400
TZOFFSETTO:-0500
RDATE:20231105T020000
END:STANDARD
BEGIN:DAYLIGHT
TZNAME:EDT
DTSTART:20230312T020000
TZOFFSETFROM:-0500
TZOFFSETTO:-0400
RDATE:20240310T020000
END:DAYLIGHT
END:VTIMEZONE
BEGIN:VEVENT
UID:ac7435b4-dbfe-4d4a-8eef-ce492d47c28e
DTSTAMP:20260420T172042Z
DESCRIPTION:Our Positively Speaking Workshop series\, offered by ArtStream\
 , is geared toward self-advocates over the age of 18. Self-advocates will 
 have the opportunity to practice social skills with peers within the conte
 xt of games and each class will have a different theme.  Parents will meet
  in a separate room to share resources\, discuss joys and concerns and lis
 ten to guest speakers.\n\nTo register for the March workshop\, please clic
 k on this link: https://dsnmc.networkforgood.com/events/51516-march-positi
 vely-speaking-by-artstream
DTSTART;TZID=America/New_York:20230326T150000
DTEND;TZID=America/New_York:20230326T163000
LOCATION:North Chevy Chase Christian Church\,  8814 Kensington Pkwy\, Chevy
  Chase\, MD 20815 US
SUMMARY:Positively Speaking Workshop\, Self Advocates
END:VEVENT
END:VCALENDAR
