BEGIN:VCALENDAR
VERSION:2.0
PRODID:-//dsnmc.org//NONSGML kigkonsult.se iCalcreator 2.30.10//
CALSCALE:GREGORIAN
METHOD:PUBLISH
UID:22059c52-0300-499b-b2ae-7cbe7a7510f6
X-WR-CALDESC:
X-WR-RELCALID:8f33d0bef075f37ebb5e02a1b0b5db24
X-WR-TIMEZONE:America/New_York
BEGIN:VTIMEZONE
TZID:America/New_York
BEGIN:STANDARD
TZNAME:EST
DTSTART:20221106T020000
TZOFFSETFROM:-0400
TZOFFSETTO:-0500
RDATE:20231105T020000
END:STANDARD
BEGIN:DAYLIGHT
TZNAME:EDT
DTSTART:20230312T020000
TZOFFSETFROM:-0500
TZOFFSETTO:-0400
RDATE:20240310T020000
END:DAYLIGHT
END:VTIMEZONE
BEGIN:VEVENT
UID:8c92f0dc-0903-40d7-92ab-47d94e641c46
DTSTAMP:20260420T172849Z
DESCRIPTION:
DTSTART;TZID=America/New_York:20230328T203000
DTEND;TZID=America/New_York:20230328T214500
LOCATION:
SUMMARY:New Family Committee Meeting
END:VEVENT
END:VCALENDAR
