BEGIN:VCALENDAR
VERSION:2.0
PRODID:-//dsnmc.org//NONSGML kigkonsult.se iCalcreator 2.30.10//
CALSCALE:GREGORIAN
METHOD:PUBLISH
UID:8f3934dd-357c-4593-858a-3d1cd06f1dd6
X-WR-CALDESC:Please join us on Wednesday\, March 29th at 7pm for a webinar 
 on The Benefits of Self-Directed Services. ﻿A parent panel will discuss:\n
 *families’ experiences with DDA Self-Directed Services\;\n*public and priv
 ate support used for their loved ones\;\n*challenges families have faced\;
 \n*strategies used to support their loved ones\; and\n*networking with oth
 er parents. \n\nThis is a special Transition Times meeting co-sponsored by
  DSNMC and Potomac Community Resources
X-WR-RELCALID:67f0baff06192b039ea0cea65347092f
X-WR-TIMEZONE:America/New_York
BEGIN:VTIMEZONE
TZID:America/New_York
BEGIN:STANDARD
TZNAME:EST
DTSTART:20221106T020000
TZOFFSETFROM:-0400
TZOFFSETTO:-0500
RDATE:20231105T020000
END:STANDARD
BEGIN:DAYLIGHT
TZNAME:EDT
DTSTART:20230312T020000
TZOFFSETFROM:-0500
TZOFFSETTO:-0400
RDATE:20240310T020000
END:DAYLIGHT
END:VTIMEZONE
BEGIN:VEVENT
UID:a5e9f896-dfe5-4b4e-b13e-cc87608677cf
DTSTAMP:20260420T172103Z
DESCRIPTION:Please join us on Wednesday\, March 29th at 7pm for a webinar o
 n The Benefits of Self-Directed Services. ﻿A parent panel will discuss:\n*
 families’ experiences with DDA Self-Directed Services\;\n*public and priva
 te support used for their loved ones\;\n*challenges families have faced\;
 \n*strategies used to support their loved ones\; and\n*networking with oth
 er parents. \n\nThis is a special Transition Times meeting co-sponsored by
  DSNMC and Potomac Community Resources
DTSTART;TZID=America/New_York:20230329T190000
DTEND;TZID=America/New_York:20230329T200000
LOCATION:https://us02web.zoom.us/webinar/register/WN_pE8hoASlQnerT2LQ1vnJcg
SUMMARY:Parent Panel on DDA Self-Directed Services
END:VEVENT
END:VCALENDAR
