BEGIN:VCALENDAR
VERSION:2.0
PRODID:-//dsnmc.org//NONSGML kigkonsult.se iCalcreator 2.30.10//
CALSCALE:GREGORIAN
METHOD:PUBLISH
UID:4b2bff57-bcfc-403a-8c69-0dfe1c0cebfa
X-WR-CALDESC:
X-WR-RELCALID:ec5cddbe481a9af5c9e142d690d3d92a
X-WR-TIMEZONE:America/New_York
BEGIN:VTIMEZONE
TZID:America/New_York
BEGIN:STANDARD
TZNAME:EST
DTSTART:20221106T020000
TZOFFSETFROM:-0400
TZOFFSETTO:-0500
RDATE:20231105T020000
END:STANDARD
BEGIN:DAYLIGHT
TZNAME:EDT
DTSTART:20230312T020000
TZOFFSETFROM:-0500
TZOFFSETTO:-0400
RDATE:20240310T020000
END:DAYLIGHT
END:VTIMEZONE
BEGIN:VEVENT
UID:d6f83fa5-1bb9-4bb0-8d67-e1a1a3db5296
DTSTAMP:20260420T160433Z
DESCRIPTION:
DTSTART;TZID=America/New_York:20230413T193000
DTEND;TZID=America/New_York:20230413T203000
LOCATION:
SUMMARY:Step UP Walk Kick off Meeting
END:VEVENT
END:VCALENDAR
