BEGIN:VCALENDAR
VERSION:2.0
PRODID:-//dsnmc.org//NONSGML kigkonsult.se iCalcreator 2.30.10//
CALSCALE:GREGORIAN
METHOD:PUBLISH
UID:85776714-9546-4e9d-a829-563224b9459e
X-WR-CALDESC:Our Positively Speaking Workshop series\, offered by ArtStream
 \, is geared toward self-advocates over the age of 18. Self-advocates will
  have the opportunity to practice social skills with peers within the cont
 ext of games and each class will have a different theme.  Parents will mee
 t in a separate room to share resources\, discuss joys and concerns and li
 sten to guest speakers.\n\nTo register for the April workshop\, please cli
 ck on this link: https://dsnmc.networkforgood.com/events/51517-april-posit
 ively-speaking-workshop
X-WR-RELCALID:d5c25abab369ae5e30be1ff22277262f
X-WR-TIMEZONE:America/New_York
BEGIN:VTIMEZONE
TZID:America/New_York
BEGIN:STANDARD
TZNAME:EST
DTSTART:20221106T020000
TZOFFSETFROM:-0400
TZOFFSETTO:-0500
RDATE:20231105T020000
END:STANDARD
BEGIN:DAYLIGHT
TZNAME:EDT
DTSTART:20230312T020000
TZOFFSETFROM:-0500
TZOFFSETTO:-0400
RDATE:20240310T020000
END:DAYLIGHT
END:VTIMEZONE
BEGIN:VEVENT
UID:d31a3f04-a16f-4f8f-9e8d-b3e637b53a5e
DTSTAMP:20260420T160433Z
DESCRIPTION:Our Positively Speaking Workshop series\, offered by ArtStream\
 , is geared toward self-advocates over the age of 18. Self-advocates will 
 have the opportunity to practice social skills with peers within the conte
 xt of games and each class will have a different theme.  Parents will meet
  in a separate room to share resources\, discuss joys and concerns and lis
 ten to guest speakers.\n\nTo register for the April workshop\, please clic
 k on this link: https://dsnmc.networkforgood.com/events/51517-april-positi
 vely-speaking-workshop
DTSTART;TZID=America/New_York:20230423T150000
DTEND;TZID=America/New_York:20230423T163000
LOCATION:North Chevy Chase Christian Church\,  8814 Kensington Pkwy\, Chevy
  Chase\, MD 20815 US
SUMMARY:Positively Speaking Workshop\, Self Advocates
END:VEVENT
END:VCALENDAR
