BEGIN:VCALENDAR
VERSION:2.0
PRODID:-//dsnmc.org//NONSGML kigkonsult.se iCalcreator 2.30.10//
CALSCALE:GREGORIAN
METHOD:PUBLISH
UID:dbdd9da2-ba43-4877-b406-759161241c0d
X-WR-CALDESC:Join DSNMC on April 24th\, when MCPS PEP Parent Educators will
  discuss the transition from special education preschool programs to kinde
 rgarten. Learn about the available kindergarten options for students with 
 I/DD and other developmental delays. Parents of children involved with the
  Infants and Toddlers Program are welcome to attend.  To pre-register\, cl
 ick here: \nhttps://dsnmc.networkforgood.com/events/56336-transition-from-
 pep-to-kindergarten
X-WR-RELCALID:1e147ad9666e2f836193393aab36c042
X-WR-TIMEZONE:America/New_York
BEGIN:VTIMEZONE
TZID:America/New_York
BEGIN:STANDARD
TZNAME:EST
DTSTART:20221106T020000
TZOFFSETFROM:-0400
TZOFFSETTO:-0500
RDATE:20231105T020000
END:STANDARD
BEGIN:DAYLIGHT
TZNAME:EDT
DTSTART:20230312T020000
TZOFFSETFROM:-0500
TZOFFSETTO:-0400
RDATE:20240310T020000
END:DAYLIGHT
END:VTIMEZONE
BEGIN:VEVENT
UID:974defcc-c208-4442-8dc4-a3e9d5a8395c
DTSTAMP:20260420T160610Z
DESCRIPTION:Join DSNMC on April 24th\, when MCPS PEP Parent Educators will 
 discuss the transition from special education preschool programs to kinder
 garten. Learn about the available kindergarten options for students with I
 /DD and other developmental delays. Parents of children involved with the 
 Infants and Toddlers Program are welcome to attend.  To pre-register\, cli
 ck here: \nhttps://dsnmc.networkforgood.com/events/56336-transition-from-p
 ep-to-kindergarten
DTSTART;TZID=America/New_York:20230424T190000
DTEND;TZID=America/New_York:20230424T201500
LOCATION:https://dsnmc.networkforgood.com/events/56336-transition-from-pep-
 to-kindergarten
SUMMARY:Learn about the Transition from PEP to Kindergarten
END:VEVENT
END:VCALENDAR
