BEGIN:VCALENDAR
VERSION:2.0
PRODID:-//dsnmc.org//NONSGML kigkonsult.se iCalcreator 2.30.10//
CALSCALE:GREGORIAN
METHOD:PUBLISH
UID:a435422b-5c4f-43ca-997b-14afba76d8f2
X-WR-CALDESC:Learn about DDA's Low Intensity Support Services (LISS).\n\nHa
 ve you heard about LISS funding and wondered what it is? Do you know if yo
 u or your loved one is eligible for LISS funding? How much LISS funding ca
 n be requested? If I already received this funding\, am I eligible to rece
 ive it again? If you would like the answers to these and other questions\,
  join our LISS information session. Andre Coates\, Executive Director of M
 aryland Community Connections\, will discuss the application and eligibili
 ty process for this funding.
X-WR-RELCALID:f83c524aeb30c596e576b889c80b849d
X-WR-TIMEZONE:America/New_York
BEGIN:VTIMEZONE
TZID:America/New_York
BEGIN:STANDARD
TZNAME:EST
DTSTART:20221106T020000
TZOFFSETFROM:-0400
TZOFFSETTO:-0500
RDATE:20231105T020000
END:STANDARD
BEGIN:DAYLIGHT
TZNAME:EDT
DTSTART:20230312T020000
TZOFFSETFROM:-0500
TZOFFSETTO:-0400
RDATE:20240310T020000
END:DAYLIGHT
END:VTIMEZONE
BEGIN:VEVENT
UID:33ad32a2-299d-4d54-97f3-d360e28bfc1c
DTSTAMP:20260420T160335Z
DESCRIPTION:Learn about DDA's Low Intensity Support Services (LISS).\n\nHav
 e you heard about LISS funding and wondered what it is? Do you know if you
  or your loved one is eligible for LISS funding? How much LISS funding can
  be requested? If I already received this funding\, am I eligible to recei
 ve it again? If you would like the answers to these and other questions\, 
 join our LISS information session. Andre Coates\, Executive Director of Ma
 ryland Community Connections\, will discuss the application and eligibilit
 y process for this funding.
DTSTART;TZID=America/New_York:20230427T190000
DTEND;TZID=America/New_York:20230427T200000
LOCATION:https://dsnmc.networkforgood.com/events/55275-liss-information-ses
 sion
SUMMARY:LISS Information Session
END:VEVENT
END:VCALENDAR
