BEGIN:VCALENDAR
VERSION:2.0
PRODID:-//dsnmc.org//NONSGML kigkonsult.se iCalcreator 2.30.10//
CALSCALE:GREGORIAN
METHOD:PUBLISH
UID:acd34fd8-7257-450f-8fae-02b5f344ddb8
X-WR-CALDESC:We Rock the Spectrum – Gaithersburg was founded to provide a p
 lace for children of all ability levels to play and grow together. We have
  found all children can benefit from our uniquely designed sensory equipme
 nt that is specifically designed to aid children with sensory processing d
 isorders.\n\nJoin DSNMC on Saturday\, April 29th from 4:00 to 5:30 pm for 
 an afternoon of fun. This event is open to children with Down syndrome bet
 ween the ages of 1 - 18\, and siblings\, 12 and under. Only 25 children ar
 e permitted to register for this event.
X-WR-RELCALID:d99662740e2437b2e9903ca7ff43ac6e
X-WR-TIMEZONE:America/New_York
BEGIN:VTIMEZONE
TZID:America/New_York
BEGIN:STANDARD
TZNAME:EST
DTSTART:20221106T020000
TZOFFSETFROM:-0400
TZOFFSETTO:-0500
RDATE:20231105T020000
END:STANDARD
BEGIN:DAYLIGHT
TZNAME:EDT
DTSTART:20230312T020000
TZOFFSETFROM:-0500
TZOFFSETTO:-0400
RDATE:20240310T020000
END:DAYLIGHT
END:VTIMEZONE
BEGIN:VEVENT
UID:043f9096-fd63-4ed5-860c-f3905e34e39e
DTSTAMP:20260420T160519Z
DESCRIPTION:We Rock the Spectrum – Gaithersburg was founded to provide a pl
 ace for children of all ability levels to play and grow together. We have 
 found all children can benefit from our uniquely designed sensory equipmen
 t that is specifically designed to aid children with sensory processing di
 sorders.\n\nJoin DSNMC on Saturday\, April 29th from 4:00 to 5:30 pm for a
 n afternoon of fun. This event is open to children with Down syndrome betw
 een the ages of 1 - 18\, and siblings\, 12 and under. Only 25 children are
  permitted to register for this event.
DTSTART;TZID=America/New_York:20230429T160000
DTEND;TZID=America/New_York:20230429T173000
LOCATION:7601 Airpark Dr\, Suite D and E\, Gaithersburg\, MD 20879 US
SUMMARY:Playgroup at We Rock The Spectrum
END:VEVENT
END:VCALENDAR
