BEGIN:VCALENDAR
VERSION:2.0
PRODID:-//dsnmc.org//NONSGML kigkonsult.se iCalcreator 2.30.10//
CALSCALE:GREGORIAN
METHOD:PUBLISH
UID:64c1fa94-7a64-4fe2-8680-74d11ddcaf1a
X-WR-CALDESC:Are you interested in learning about the groundbreaking resear
 ch that’s changing the lives of individuals with Down syndrome? Then you w
 on’t want to miss this webinar led by Dr. Parisi\, a leading expert in the
  field.\n\nIn this presentation\, Dr. Parisi will share the latest discove
 ries from the INCLUDE Project\, which began in 2018. She will discuss some
  exciting new findings related to sleep apnea\, regression treatments\, an
 d approaches for monitoring and potentially reducing the risk for adults w
 ith Down syndrome to develop Alzheimer’s disease. She will also discuss th
 e DS-Connect® registry\, a valuable resource for families and one way that
  members of the DSNMC can participate in research opportunities of interes
 t to them.
X-WR-RELCALID:c06fbfcc8b158029af3610b04d2fce0f
X-WR-TIMEZONE:America/New_York
BEGIN:VTIMEZONE
TZID:America/New_York
BEGIN:STANDARD
TZNAME:EST
DTSTART:20221106T020000
TZOFFSETFROM:-0400
TZOFFSETTO:-0500
RDATE:20231105T020000
END:STANDARD
BEGIN:DAYLIGHT
TZNAME:EDT
DTSTART:20230312T020000
TZOFFSETFROM:-0500
TZOFFSETTO:-0400
RDATE:20240310T020000
END:DAYLIGHT
END:VTIMEZONE
BEGIN:VEVENT
UID:24fefa0a-2825-4eca-9cdb-2aebe5c80114
DTSTAMP:20260420T143946Z
DESCRIPTION:Are you interested in learning about the groundbreaking researc
 h that’s changing the lives of individuals with Down syndrome? Then you wo
 n’t want to miss this webinar led by Dr. Parisi\, a leading expert in the 
 field.\n\nIn this presentation\, Dr. Parisi will share the latest discover
 ies from the INCLUDE Project\, which began in 2018. She will discuss some 
 exciting new findings related to sleep apnea\, regression treatments\, and
  approaches for monitoring and potentially reducing the risk for adults wi
 th Down syndrome to develop Alzheimer’s disease. She will also discuss the
  DS-Connect® registry\, a valuable resource for families and one way that 
 members of the DSNMC can participate in research opportunities of interest
  to them.
DTSTART;TZID=America/New_York:20230504T193000
DTEND;TZID=America/New_York:20230504T203000
LOCATION:
SUMMARY:How Discoveries from the Down Syndrome INCLUDE Project are Making a
  Difference for Families Today
END:VEVENT
END:VCALENDAR
