BEGIN:VCALENDAR
VERSION:2.0
PRODID:-//dsnmc.org//NONSGML kigkonsult.se iCalcreator 2.30.10//
CALSCALE:GREGORIAN
METHOD:PUBLISH
UID:be33cb10-27bd-43b3-866d-e1264a07830d
X-WR-CALDESC:This free event is geared toward families with children younge
 r than 5 with Down syndrome\, families new to DSNMC\, families new to Mont
 gomery County and families with a pre-natal diagnosis.  At the breakfast\,
  you will meet DSNMC leadership as well as other families caring for young
  children with Ds.  It's a great way to become familiar with DSNMC in a re
 laxed setting. Coffee and breakfast are on us!  We look forward to meeting
  you.\n
X-WR-RELCALID:e321f227e33f5b7a9c59a866a608b1b6
X-WR-TIMEZONE:America/New_York
BEGIN:VTIMEZONE
TZID:America/New_York
BEGIN:STANDARD
TZNAME:EST
DTSTART:20221106T020000
TZOFFSETFROM:-0400
TZOFFSETTO:-0500
RDATE:20231105T020000
RDATE:20241103T020000
END:STANDARD
BEGIN:DAYLIGHT
TZNAME:EDT
DTSTART:20230312T020000
TZOFFSETFROM:-0500
TZOFFSETTO:-0400
RDATE:20240310T020000
END:DAYLIGHT
END:VTIMEZONE
BEGIN:VEVENT
UID:c2550bd0-b586-4c5a-a057-e8f33504d6ed
DTSTAMP:20260420T143813Z
DESCRIPTION:This free event is geared toward families with children younger
  than 5 with Down syndrome\, families new to DSNMC\, families new to Montg
 omery County and families with a pre-natal diagnosis.  At the breakfast\, 
 you will meet DSNMC leadership as well as other families caring for young 
 children with Ds.  It's a great way to become familiar with DSNMC in a rel
 axed setting. Coffee and breakfast are on us!  We look forward to meeting 
 you.\n
DTSTART;TZID=America/New_York:20230507T100000
DTEND;TZID=America/New_York:20230507T120000
LOCATION:Griffith Park Pavilion \, at Gaithersburg City Hall\, 29 South Sum
 mit Avenue\, Gaithersburg\, MD 20877 US
SUMMARY:New Family Breakfast
END:VEVENT
END:VCALENDAR
