BEGIN:VCALENDAR
VERSION:2.0
PRODID:-//dsnmc.org//NONSGML kigkonsult.se iCalcreator 2.30.10//
CALSCALE:GREGORIAN
METHOD:PUBLISH
UID:436a9a50-fe97-4285-bd0b-48b4909e2d89
X-WR-CALDESC:Únase a Grupo Latino para un almuerzo compartido\, el sábado 1
 3 de mayo\, de 11 am a 1 pm. Conozca otras familias que hablen español y t
 engan un ser querido con Síndrome de Down.\n\n\nHaga clic en este enlace g
 enio de registro para indicar qué plato puede traer.
X-WR-RELCALID:1e6a99638ea41aa054789781e52c2ad3
X-WR-TIMEZONE:America/New_York
BEGIN:VTIMEZONE
TZID:America/New_York
BEGIN:STANDARD
TZNAME:EST
DTSTART:20221106T020000
TZOFFSETFROM:-0400
TZOFFSETTO:-0500
RDATE:20231105T020000
RDATE:20241103T020000
END:STANDARD
BEGIN:DAYLIGHT
TZNAME:EDT
DTSTART:20230312T020000
TZOFFSETFROM:-0500
TZOFFSETTO:-0400
RDATE:20240310T020000
END:DAYLIGHT
END:VTIMEZONE
BEGIN:VEVENT
UID:80fa17ea-b1d3-4d92-a610-db3c2323e69c
DTSTAMP:20260420T144007Z
DESCRIPTION:Únase a Grupo Latino para un almuerzo compartido\, el sábado 13
  de mayo\, de 11 am a 1 pm. Conozca otras familias que hablen español y te
 ngan un ser querido con Síndrome de Down.\n\n\nHaga clic en este enlace ge
 nio de registro para indicar qué plato puede traer.
DTSTART;TZID=America/New_York:20230513T110000
DTEND;TZID=America/New_York:20230513T130000
LOCATION:Parque Regional Cabin John\, Refugio de Picnic A (Cabin John Regio
 nal Park\, Picnic Shelter A\, 7400 Tuckerman Ln\, Bethesda\, MD 20817 US
SUMMARY:Almuerzo compartido en Cabin John Park
END:VEVENT
END:VCALENDAR
