BEGIN:VCALENDAR
VERSION:2.0
PRODID:-//dsnmc.org//NONSGML kigkonsult.se iCalcreator 2.30.10//
CALSCALE:GREGORIAN
METHOD:PUBLISH
UID:3fdf915b-6f0c-429b-955c-4cf3365c767b
X-WR-CALDESC:This event has been designed for teens and transitioning youth
  and their families. We will meet at Cabin John Park\, Picnic Shelter 'A' 
 at 5:30 pm for dinner and games. Feel free to bring along hula hoops\, a b
 asketball\, or your favorite outdoor game. \n\nWe welcome parents or other
  support personnel to stay with teens or young adults who need supervision
 . DSNMC staff and volunteers will lead activities for the group and will n
 ot be available to supervise individual participants. This event will end 
 promptly at 8 pm.
X-WR-RELCALID:71f6fd102cae9f3c74641f5ce9fcff46
X-WR-TIMEZONE:America/New_York
BEGIN:VTIMEZONE
TZID:America/New_York
BEGIN:STANDARD
TZNAME:EST
DTSTART:20221106T020000
TZOFFSETFROM:-0400
TZOFFSETTO:-0500
RDATE:20231105T020000
RDATE:20241103T020000
END:STANDARD
BEGIN:DAYLIGHT
TZNAME:EDT
DTSTART:20230312T020000
TZOFFSETFROM:-0500
TZOFFSETTO:-0400
RDATE:20240310T020000
END:DAYLIGHT
END:VTIMEZONE
BEGIN:VEVENT
UID:1af3a612-8406-4a3d-b0ee-935b5c60de07
DTSTAMP:20260420T144037Z
DESCRIPTION:This event has been designed for teens and transitioning youth 
 and their families. We will meet at Cabin John Park\, Picnic Shelter 'A' a
 t 5:30 pm for dinner and games. Feel free to bring along hula hoops\, a ba
 sketball\, or your favorite outdoor game. \n\nWe welcome parents or other 
 support personnel to stay with teens or young adults who need supervision.
  DSNMC staff and volunteers will lead activities for the group and will no
 t be available to supervise individual participants. This event will end p
 romptly at 8 pm.
DTSTART;TZID=America/New_York:20230513T173000
DTEND;TZID=America/New_York:20230513T200000
LOCATION:Cabin John Regional Park\, Picnic Shelter A\, 7400 Tuckerman Lane\
 , Bethesda\, MD 20852 US
SUMMARY:Bring Your Own Picnic Dinner- Teens/Transitioning Youth
END:VEVENT
END:VCALENDAR
