BEGIN:VCALENDAR
VERSION:2.0
PRODID:-//dsnmc.org//NONSGML kigkonsult.se iCalcreator 2.30.10//
CALSCALE:GREGORIAN
METHOD:PUBLISH
UID:f51cb818-bcee-4840-ad22-d955160f8486
X-WR-CALDESC:
X-WR-RELCALID:7e5de4f4cb0e2cbbe9a9137913b5a12d
X-WR-TIMEZONE:America/New_York
BEGIN:VTIMEZONE
TZID:America/New_York
BEGIN:STANDARD
TZNAME:EST
DTSTART:20221106T020000
TZOFFSETFROM:-0400
TZOFFSETTO:-0500
RDATE:20231105T020000
RDATE:20241103T020000
END:STANDARD
BEGIN:DAYLIGHT
TZNAME:EDT
DTSTART:20230312T020000
TZOFFSETFROM:-0500
TZOFFSETTO:-0400
RDATE:20240310T020000
END:DAYLIGHT
END:VTIMEZONE
BEGIN:VEVENT
UID:39c6dbee-cf13-4343-b1e7-78198629bc27
DTSTAMP:20260420T144006Z
DESCRIPTION:
DTSTART;TZID=America/New_York:20230515T193000
DTEND;TZID=America/New_York:20230515T213000
LOCATION:
SUMMARY:Board Meeting
END:VEVENT
END:VCALENDAR
