BEGIN:VCALENDAR
VERSION:2.0
PRODID:-//dsnmc.org//NONSGML kigkonsult.se iCalcreator 2.30.10//
CALSCALE:GREGORIAN
METHOD:PUBLISH
UID:71855dd3-fd02-4d6c-bdb8-64c1047c1653
X-WR-CALDESC:Help DSNMC plan for the 2023 Step Up Walk.  If you are interes
 ted in attending\, please email Joy Stein at admin@dsnmc.org to receive th
 e zoom link.
X-WR-RELCALID:5d1f1b9877d5fa27e5e94ffc149865cb
X-WR-TIMEZONE:America/New_York
BEGIN:VTIMEZONE
TZID:America/New_York
BEGIN:STANDARD
TZNAME:EST
DTSTART:20221106T020000
TZOFFSETFROM:-0400
TZOFFSETTO:-0500
RDATE:20231105T020000
RDATE:20241103T020000
END:STANDARD
BEGIN:DAYLIGHT
TZNAME:EDT
DTSTART:20230312T020000
TZOFFSETFROM:-0500
TZOFFSETTO:-0400
RDATE:20240310T020000
END:DAYLIGHT
END:VTIMEZONE
BEGIN:VEVENT
UID:c581a95c-1300-465f-9c11-2040326c0df9
DTSTAMP:20260420T143829Z
DESCRIPTION:Help DSNMC plan for the 2023 Step Up Walk.  If you are interest
 ed in attending\, please email Joy Stein at admin@dsnmc.org to receive the
  zoom link.
DTSTART;TZID=America/New_York:20230516T193000
DTEND;TZID=America/New_York:20230516T203000
LOCATION:
SUMMARY:Step Up Walk Committee Meeting
END:VEVENT
END:VCALENDAR
