BEGIN:VCALENDAR
VERSION:2.0
PRODID:-//dsnmc.org//NONSGML kigkonsult.se iCalcreator 2.30.10//
CALSCALE:GREGORIAN
METHOD:PUBLISH
UID:75dfffb1-3249-4f52-9419-05be323163cf
X-WR-CALDESC:The DSNMC Education Committee is now meeting on the third Thur
 sday of each month from 7:15 pm-8:30 pm. \n\nCo-chairs: \nKalani Brown (ka
 laniuke@hotmail.com) and Carrie Swann (carrie.swann@gmail.com)\n\nJoin Zoo
 m Meeting\nhttps://us02web.zoom.us/j/86288520613?pwd=TmIyZ3JDcmVCRUNuanRRW
 WNwT2h6QT09\n\nMeeting ID: 862 8852 0613\nPasscode: 785188\nOne tap mobile
 \n+13017158592
X-WR-RELCALID:04a3a2351deab3bf8d7e758e0ddedbf4
X-WR-TIMEZONE:America/New_York
BEGIN:VTIMEZONE
TZID:America/New_York
BEGIN:STANDARD
TZNAME:EST
DTSTART:20221106T020000
TZOFFSETFROM:-0400
TZOFFSETTO:-0500
RDATE:20231105T020000
RDATE:20241103T020000
END:STANDARD
BEGIN:DAYLIGHT
TZNAME:EDT
DTSTART:20230312T020000
TZOFFSETFROM:-0500
TZOFFSETTO:-0400
RDATE:20240310T020000
END:DAYLIGHT
END:VTIMEZONE
BEGIN:VEVENT
UID:5f0d7a96-d465-46db-8fcf-7deef8e48a51
DTSTAMP:20260420T144037Z
DESCRIPTION:The DSNMC Education Committee is now meeting on the third Thurs
 day of each month from 7:15 pm-8:30 pm. \n\nCo-chairs: \nKalani Brown (kal
 aniuke@hotmail.com) and Carrie Swann (carrie.swann@gmail.com)\n\nJoin Zoom
  Meeting\nhttps://us02web.zoom.us/j/86288520613?pwd=TmIyZ3JDcmVCRUNuanRRWW
 NwT2h6QT09\n\nMeeting ID: 862 8852 0613\nPasscode: 785188\nOne tap mobile
 \n+13017158592
DTSTART;TZID=America/New_York:20230518T190000
DTEND;TZID=America/New_York:20230518T200000
LOCATION:https://us02web.zoom.us/j/86288520613?pwd=TmIyZ3JDcmVCRUNuanRRWWNw
 T2h6QT09
SUMMARY:DSNMC Education Committee Meeting
END:VEVENT
END:VCALENDAR
