BEGIN:VCALENDAR
VERSION:2.0
PRODID:-//dsnmc.org//NONSGML kigkonsult.se iCalcreator 2.30.10//
CALSCALE:GREGORIAN
METHOD:PUBLISH
UID:4a256497-e3c6-455e-a44e-2f6c06620c31
X-WR-CALDESC:Introduction to Dance will introduce eight to twelve-year-old 
 students to the fundamentals of dance technique while exploring different 
 genres such as ballet\, jazz\, modern\, and more. Instructors from Metropo
 litan Ballet Theatre and Academy will have students work on gaining streng
 th and coordination all while exploring their artistry and creativity. Eac
 h week students will learn fun choreography designed for DSNMC that explor
 es many of the new dance techniques and moves learned in each class.\n\nSt
 udents should wear comfortable clothing\, such as leggings and t-shirts. W
 hen selecting clothing\, please keep in mind that the participants may be 
 doing some upside-down movements. Participants should be barefoot or wear 
 ballet slippers\, and may bring a water bottle with them to class\n\nTo re
 gister\, click on this link: https://dsnmc.networkforgood.com/events/50348
 -introduction-to-dance-class-8-12-year-olds\n\nParents are asked to remain
  nearby while their children participate in the creative movement class.
X-WR-RELCALID:cdd4ffcc3fba422be4322414a40b1a1d
X-WR-TIMEZONE:America/New_York
BEGIN:VTIMEZONE
TZID:America/New_York
BEGIN:STANDARD
TZNAME:EST
DTSTART:20221106T020000
TZOFFSETFROM:-0400
TZOFFSETTO:-0500
RDATE:20231105T020000
RDATE:20241103T020000
END:STANDARD
BEGIN:DAYLIGHT
TZNAME:EDT
DTSTART:20230312T020000
TZOFFSETFROM:-0500
TZOFFSETTO:-0400
RDATE:20240310T020000
END:DAYLIGHT
END:VTIMEZONE
BEGIN:VEVENT
UID:a896ea8b-4b45-4c1c-aa33-7d682e0c59bd
DTSTAMP:20260420T143829Z
DESCRIPTION:Introduction to Dance will introduce eight to twelve-year-old s
 tudents to the fundamentals of dance technique while exploring different g
 enres such as ballet\, jazz\, modern\, and more. Instructors from Metropol
 itan Ballet Theatre and Academy will have students work on gaining strengt
 h and coordination all while exploring their artistry and creativity. Each
  week students will learn fun choreography designed for DSNMC that explore
 s many of the new dance techniques and moves learned in each class.\n\nStu
 dents should wear comfortable clothing\, such as leggings and t-shirts. Wh
 en selecting clothing\, please keep in mind that the participants may be d
 oing some upside-down movements. Participants should be barefoot or wear b
 allet slippers\, and may bring a water bottle with them to class\n\nTo reg
 ister\, click on this link: https://dsnmc.networkforgood.com/events/50348-
 introduction-to-dance-class-8-12-year-olds\n\nParents are asked to remain 
 nearby while their children participate in the creative movement class.
DTSTART;TZID=America/New_York:20230521T125000
DTEND;TZID=America/New_York:20230521T134500
LOCATION:Metropolitan Ballet Theater and Academy\, 220 Perry Pkwy # 8 Gaith
 ersburg\, MD 20877\, Gaithersburg\, MD 20877 US
SUMMARY:Intro to Dance Class for 8-12 year olds
END:VEVENT
END:VCALENDAR
