BEGIN:VCALENDAR
VERSION:2.0
PRODID:-//dsnmc.org//NONSGML kigkonsult.se iCalcreator 2.30.10//
CALSCALE:GREGORIAN
METHOD:PUBLISH
UID:683dadc2-47d5-4e11-b017-3ce86da4eb67
X-WR-CALDESC:Adults with Down syndrome\, transitioning youth\, and their pa
 rents/companions are invited to see the Washington Nationals play the San 
 Diego Padres on Tuesday\, May 23rd.\n\nDSNMC has been awarded 30 tickets f
 or this game - tickets will be distributed on a first-come basis and will 
 be emailed to you prior to the game.\n\nFood will be available for purchas
 e at the game. \nLet's play ball!
X-WR-RELCALID:c30fa8bc6f34d2c13f6d44958989b3e1
X-WR-TIMEZONE:America/New_York
BEGIN:VTIMEZONE
TZID:America/New_York
BEGIN:STANDARD
TZNAME:EST
DTSTART:20221106T020000
TZOFFSETFROM:-0400
TZOFFSETTO:-0500
RDATE:20231105T020000
RDATE:20241103T020000
END:STANDARD
BEGIN:DAYLIGHT
TZNAME:EDT
DTSTART:20230312T020000
TZOFFSETFROM:-0500
TZOFFSETTO:-0400
RDATE:20240310T020000
END:DAYLIGHT
END:VTIMEZONE
BEGIN:VEVENT
UID:e7c880b7-9c8e-4b81-b9ba-9f2160d46ccf
DTSTAMP:20260420T144133Z
DESCRIPTION:Adults with Down syndrome\, transitioning youth\, and their par
 ents/companions are invited to see the Washington Nationals play the San D
 iego Padres on Tuesday\, May 23rd.\n\nDSNMC has been awarded 30 tickets fo
 r this game - tickets will be distributed on a first-come basis and will b
 e emailed to you prior to the game.\n\nFood will be available for purchase
  at the game. \nLet's play ball!
DTSTART;TZID=America/New_York:20230523T190500
DTEND;TZID=America/New_York:20230523T220000
LOCATION:Nationals Park\, 1500 South Capitol Street\, SE\, Washington\, DC 
 20003 US
SUMMARY:Nats Game for Adults with Ds/Transitioning Youth
END:VEVENT
END:VCALENDAR
