BEGIN:VCALENDAR
VERSION:2.0
PRODID:-//dsnmc.org//NONSGML kigkonsult.se iCalcreator 2.30.10//
CALSCALE:GREGORIAN
METHOD:PUBLISH
UID:8968c4ab-53af-4167-8aca-7d14e58646f8
X-WR-CALDESC:The Give A Hoot Comedy club donates a portion of net ticket sa
 les each weekend to a local charity. We are honored that Give a Hoot has c
 hosen DSNMC to benefit from its shows on June 2-3!  Join other parents and
  friends for a night of laughter with comedian Rob Ward\, Cleveland's 'Com
 edian of the Year'! Spread the word - invite your family\, friends\, and n
 eighbors.  Have fun and raise money for DSNMC at the same time!\n\nTickets
  are $20 in advance and $25 at the door.  The doors open at 7 for those wh
 o would like to order food and drink from La Mexicana.
X-WR-RELCALID:203a24d62e76532fdf1be447cd24b957
X-WR-TIMEZONE:America/New_York
BEGIN:VTIMEZONE
TZID:America/New_York
BEGIN:STANDARD
TZNAME:EST
DTSTART:20221106T020000
TZOFFSETFROM:-0400
TZOFFSETTO:-0500
RDATE:20231105T020000
RDATE:20241103T020000
END:STANDARD
BEGIN:DAYLIGHT
TZNAME:EDT
DTSTART:20230312T020000
TZOFFSETFROM:-0500
TZOFFSETTO:-0400
RDATE:20240310T020000
END:DAYLIGHT
END:VTIMEZONE
BEGIN:VEVENT
UID:20d0def4-1599-4867-9075-774864113ceb
DTSTAMP:20260420T131858Z
DESCRIPTION:The Give A Hoot Comedy club donates a portion of net ticket sal
 es each weekend to a local charity. We are honored that Give a Hoot has ch
 osen DSNMC to benefit from its shows on June 2-3!  Join other parents and 
 friends for a night of laughter with comedian Rob Ward\, Cleveland's 'Come
 dian of the Year'! Spread the word - invite your family\, friends\, and ne
 ighbors.  Have fun and raise money for DSNMC at the same time!\n\nTickets 
 are $20 in advance and $25 at the door.  The doors open at 7 for those who
  would like to order food and drink from La Mexicana.
DTSTART;TZID=America/New_York:20230602T200000
DTEND;TZID=America/New_York:20230602T220000
LOCATION:Give A Hoot Comedy Club\, 16143 Shady Grove Road\, Gaithersburg\, 
 MD 20877 US
SUMMARY:/Give a Hoot Comedy Club to benefit DSNMC
END:VEVENT
END:VCALENDAR
