BEGIN:VCALENDAR
VERSION:2.0
PRODID:-//dsnmc.org//NONSGML kigkonsult.se iCalcreator 2.30.10//
CALSCALE:GREGORIAN
METHOD:PUBLISH
UID:3a452232-eff5-47a7-865a-e70a499cf623
X-WR-CALDESC:The Give A Hoot Comedy club donates a portion of net ticket sa
 les each weekend to a local charity. We are honored that Give a Hoot has c
 hosen DSNMC to benefit from its shows on June 2-3! We are declaring the Sa
 turday\, June 3 show to be DSNMC Parents Night Out. Join other parents and
  friends for a night of laughter with comedian Rob Ward\, Cleveland's 'Com
 edian of the Year'!\n\nTickets are $20 in advance and $25 at the door.  Th
 e doors open at 7 for those who would like to order food and drink from La
  Mexicana.
X-WR-RELCALID:5f95228c859334fcfded961d18378860
X-WR-TIMEZONE:America/New_York
BEGIN:VTIMEZONE
TZID:America/New_York
BEGIN:STANDARD
TZNAME:EST
DTSTART:20221106T020000
TZOFFSETFROM:-0400
TZOFFSETTO:-0500
RDATE:20231105T020000
RDATE:20241103T020000
END:STANDARD
BEGIN:DAYLIGHT
TZNAME:EDT
DTSTART:20230312T020000
TZOFFSETFROM:-0500
TZOFFSETTO:-0400
RDATE:20240310T020000
END:DAYLIGHT
END:VTIMEZONE
BEGIN:VEVENT
UID:8a6cb90f-abb1-4903-8dde-b459be5ea207
DTSTAMP:20260420T131843Z
DESCRIPTION:The Give A Hoot Comedy club donates a portion of net ticket sal
 es each weekend to a local charity. We are honored that Give a Hoot has ch
 osen DSNMC to benefit from its shows on June 2-3! We are declaring the Sat
 urday\, June 3 show to be DSNMC Parents Night Out. Join other parents and 
 friends for a night of laughter with comedian Rob Ward\, Cleveland's 'Come
 dian of the Year'!\n\nTickets are $20 in advance and $25 at the door.  The
  doors open at 7 for those who would like to order food and drink from La 
 Mexicana.
DTSTART;TZID=America/New_York:20230603T200000
DTEND;TZID=America/New_York:20230603T220000
LOCATION:Give A Hoot Comedy Club\, 16143 Shady Grove Road\, Gaithersburg\, 
 MD 20877 US
SUMMARY:Parent's Night Out/Give a Hoot Comedy Club
END:VEVENT
END:VCALENDAR
