BEGIN:VCALENDAR
VERSION:2.0
PRODID:-//dsnmc.org//NONSGML kigkonsult.se iCalcreator 2.30.10//
CALSCALE:GREGORIAN
METHOD:PUBLISH
UID:4ebfa769-cbe0-4cfa-afd0-529b4033ce9c
X-WR-CALDESC:Our Positively Speaking Workshop series\, offered by ArtStream
 \, is geared toward self-advocates over the age of 18. Self-advocates will
  have the opportunity to practice social skills with peers within the cont
 ext of games and each class will have a different theme.  Parents will mee
 t in a separate room to share resources\, discuss joys and concerns and li
 sten to guest speakers.\n\nTo register for the June workshop\, please clic
 k on this link: https://dsnmc.networkforgood.com/events/51523-june-positiv
 ely-speaking-workshop
X-WR-RELCALID:1a9475c45c0d22ac27999be65b50ff12
X-WR-TIMEZONE:America/New_York
BEGIN:VTIMEZONE
TZID:America/New_York
BEGIN:STANDARD
TZNAME:EST
DTSTART:20221106T020000
TZOFFSETFROM:-0400
TZOFFSETTO:-0500
RDATE:20231105T020000
RDATE:20241103T020000
END:STANDARD
BEGIN:DAYLIGHT
TZNAME:EDT
DTSTART:20230312T020000
TZOFFSETFROM:-0500
TZOFFSETTO:-0400
RDATE:20240310T020000
END:DAYLIGHT
END:VTIMEZONE
BEGIN:VEVENT
UID:abf1e7cd-a42c-4ea8-bdd0-5ca51db093ae
DTSTAMP:20260420T131549Z
DESCRIPTION:Our Positively Speaking Workshop series\, offered by ArtStream\
 , is geared toward self-advocates over the age of 18. Self-advocates will 
 have the opportunity to practice social skills with peers within the conte
 xt of games and each class will have a different theme.  Parents will meet
  in a separate room to share resources\, discuss joys and concerns and lis
 ten to guest speakers.\n\nTo register for the June workshop\, please click
  on this link: https://dsnmc.networkforgood.com/events/51523-june-positive
 ly-speaking-workshop
DTSTART;TZID=America/New_York:20230604T150000
DTEND;TZID=America/New_York:20230604T163000
LOCATION:North Chevy Chase Christian Church\,  8814 Kensington Pkwy\, Chevy
  Chase\, MD 20815 US
SUMMARY:Positively Speaking Workshop\, Self Advocates
END:VEVENT
END:VCALENDAR
