BEGIN:VCALENDAR
VERSION:2.0
PRODID:-//dsnmc.org//NONSGML kigkonsult.se iCalcreator 2.30.10//
CALSCALE:GREGORIAN
METHOD:PUBLISH
UID:1ca2599b-45fa-4a7f-91bf-b651a22e1de9
X-WR-CALDESC:\n\nJoin us at Black Hill Regional Park in Boyds\, Picnic Shel
 ter C\, for food\, games\, and friendship. Jersey Mike's is providing sand
 wiches\, chips\, drinks\, and dessert. This in-person event will occur rai
 n or shine! The cost to attend this event is $5.00 per person\; children 3
  and under are free.\n\nÚnase a nosotros en Black Hill Regional Park en Bo
 yds\, Picnic Shelter C\, para comida\, juegos y amistad. Jersey Mike's ofr
 ece sándwiches\, papas fritas\, bebidas y postres. ¡Este evento en persona
  ocurrirá llueva o truene! El costo para asistir a este evento es de $5.00
  por persona\; los niños menores de 3 años entran gratis.
X-WR-RELCALID:a490c83b06841563338695f74c1932b6
X-WR-TIMEZONE:America/New_York
BEGIN:VTIMEZONE
TZID:America/New_York
BEGIN:STANDARD
TZNAME:EST
DTSTART:20221106T020000
TZOFFSETFROM:-0400
TZOFFSETTO:-0500
RDATE:20231105T020000
RDATE:20241103T020000
END:STANDARD
BEGIN:DAYLIGHT
TZNAME:EDT
DTSTART:20230312T020000
TZOFFSETFROM:-0500
TZOFFSETTO:-0400
RDATE:20240310T020000
END:DAYLIGHT
END:VTIMEZONE
BEGIN:VEVENT
UID:03d82c28-5ee9-49ef-9341-99712e8aba37
DTSTAMP:20260420T131541Z
DESCRIPTION:\n\nJoin us at Black Hill Regional Park in Boyds\, Picnic Shelt
 er C\, for food\, games\, and friendship. Jersey Mike's is providing sandw
 iches\, chips\, drinks\, and dessert. This in-person event will occur rain
  or shine! The cost to attend this event is $5.00 per person\; children 3 
 and under are free.\n\nÚnase a nosotros en Black Hill Regional Park en Boy
 ds\, Picnic Shelter C\, para comida\, juegos y amistad. Jersey Mike's ofre
 ce sándwiches\, papas fritas\, bebidas y postres. ¡Este evento en persona 
 ocurrirá llueva o truene! El costo para asistir a este evento es de $5.00 
 por persona\; los niños menores de 3 años entran gratis.
DTSTART;TZID=America/New_York:20230611T113000
DTEND;TZID=America/New_York:20230611T140000
LOCATION:Black Hill Regional Park\, Picnic Shelter C\, 20930 Lake Ridge Dri
 ve\, Boyds\, MD 20841 US
SUMMARY:DSNMC Summer Picnic
END:VEVENT
END:VCALENDAR
