BEGIN:VCALENDAR
VERSION:2.0
PRODID:-//dsnmc.org//NONSGML kigkonsult.se iCalcreator 2.30.10//
CALSCALE:GREGORIAN
METHOD:PUBLISH
UID:ab2a13c6-0269-4ca0-b577-7765587c6ac1
X-WR-CALDESC:Help DSNMC plan for the 2023 Step Up Walk.  If you are interes
 ted in participating on the Step UP Walk Committee\, please email Joy Stei
 n at admin@dsnmc.org to receive the zoom link.
X-WR-RELCALID:cd8ab35caedf6af907167c6d8e664805
X-WR-TIMEZONE:America/New_York
BEGIN:VTIMEZONE
TZID:America/New_York
BEGIN:STANDARD
TZNAME:EST
DTSTART:20221106T020000
TZOFFSETFROM:-0400
TZOFFSETTO:-0500
RDATE:20231105T020000
RDATE:20241103T020000
END:STANDARD
BEGIN:DAYLIGHT
TZNAME:EDT
DTSTART:20230312T020000
TZOFFSETFROM:-0500
TZOFFSETTO:-0400
RDATE:20240310T020000
END:DAYLIGHT
END:VTIMEZONE
BEGIN:VEVENT
UID:75c3a5df-438f-4b9c-8b69-6347a2a0b1e2
DTSTAMP:20260420T131629Z
DESCRIPTION:Help DSNMC plan for the 2023 Step Up Walk.  If you are interest
 ed in participating on the Step UP Walk Committee\, please email Joy Stein
  at admin@dsnmc.org to receive the zoom link.
DTSTART;TZID=America/New_York:20230615T193000
DTEND;TZID=America/New_York:20230615T210000
LOCATION:
SUMMARY:Step Up Walk Committee Meeting
END:VEVENT
END:VCALENDAR
