BEGIN:VCALENDAR
VERSION:2.0
PRODID:-//dsnmc.org//NONSGML kigkonsult.se iCalcreator 2.30.10//
CALSCALE:GREGORIAN
METHOD:PUBLISH
UID:a2d29e7c-4772-453a-9aa3-82bb2c28ba2b
X-WR-CALDESC:Teens and young adults - join us on Friday\, June 30th at Rock
 ville Town Square to listen to singer/songwriter Dan Haas\, who plays pop 
 music. Adrian will be waiting for you at 5:45 at the main entrance to the 
 Rockville library\, and we will find a place to sit in the town square to 
 listen to music and dance. Be sure to bring a picnic blanket or chair to s
 it on.\n\nFor those who want to grab dinner\, there are lots of nearby res
 taurants. There are several parking lots located near the town square.\n\n
 We welcome parents or other support personnel to stay with teens or adults
  who need supervision. DSNMC staff and volunteers will not be available to
  supervise individual participants. The musical performance will end at 8:
 30 pm.
X-WR-RELCALID:e9824fa2960bb65dd092dd32313cba05
X-WR-TIMEZONE:America/New_York
BEGIN:VTIMEZONE
TZID:America/New_York
BEGIN:STANDARD
TZNAME:EST
DTSTART:20221106T020000
TZOFFSETFROM:-0400
TZOFFSETTO:-0500
RDATE:20231105T020000
RDATE:20241103T020000
END:STANDARD
BEGIN:DAYLIGHT
TZNAME:EDT
DTSTART:20230312T020000
TZOFFSETFROM:-0500
TZOFFSETTO:-0400
RDATE:20240310T020000
END:DAYLIGHT
END:VTIMEZONE
BEGIN:VEVENT
UID:88821e6c-0c85-47b1-bc35-aedfda9fc1ce
DTSTAMP:20260420T131541Z
DESCRIPTION:Teens and young adults - join us on Friday\, June 30th at Rockv
 ille Town Square to listen to singer/songwriter Dan Haas\, who plays pop m
 usic. Adrian will be waiting for you at 5:45 at the main entrance to the R
 ockville library\, and we will find a place to sit in the town square to l
 isten to music and dance. Be sure to bring a picnic blanket or chair to si
 t on.\n\nFor those who want to grab dinner\, there are lots of nearby rest
 aurants. There are several parking lots located near the town square.\n\nW
 e welcome parents or other support personnel to stay with teens or adults 
 who need supervision. DSNMC staff and volunteers will not be available to 
 supervise individual participants. The musical performance will end at 8:3
 0 pm.
DTSTART;TZID=America/New_York:20230630T174500
DTEND;TZID=America/New_York:20230630T203000
LOCATION:Rockville Town Square\, 36 Maryland Avenue\, Rockville\, MD 20850 
 US
SUMMARY:Music in the square
END:VEVENT
END:VCALENDAR
