BEGIN:VCALENDAR
VERSION:2.0
PRODID:-//dsnmc.org//NONSGML kigkonsult.se iCalcreator 2.30.10//
CALSCALE:GREGORIAN
METHOD:PUBLISH
UID:c7f7d70d-2b9f-47ef-8736-8695c7f96e0f
X-WR-CALDESC:Due to last evening's rain\, the game has been postponed until
  2 pm today.\n\nJoin DSNMC at a Bethesda Big Train Summer Collegiate Leagu
 e baseball game and support DSNMC Executive Director\, Brooke Levey\, when
  she is honored as a community hero. Following the game\, DSNMC guests are
  invited to run the bases. There will also be a moon bounce available for 
 fun!\n\nDSNMC has been granted 25 tickets for this event\, yet we hope for
  a much bigger turnout. Once the 25 free tickets are reserved\, you can pu
 rchase tickets at: https://bigtrain.ticketspice.com/big-train-vs-braves-ju
 ly-16-2023\n\nSmall children only need tickets if they are using a seat. C
 hildren do not need to be under a certain age\, but only toddlers who can 
 sit on the lap of a parent or guardian will be allowed free admission unde
 r this policy.
X-WR-RELCALID:cb3182ee15eb407505a9d95d31ccfb73
X-WR-TIMEZONE:America/New_York
BEGIN:VTIMEZONE
TZID:America/New_York
BEGIN:STANDARD
TZNAME:EST
DTSTART:20221106T020000
TZOFFSETFROM:-0400
TZOFFSETTO:-0500
RDATE:20231105T020000
RDATE:20241103T020000
END:STANDARD
BEGIN:DAYLIGHT
TZNAME:EDT
DTSTART:20230312T020000
TZOFFSETFROM:-0500
TZOFFSETTO:-0400
RDATE:20240310T020000
END:DAYLIGHT
END:VTIMEZONE
BEGIN:VEVENT
UID:f935865b-700d-41cb-8711-26991dfdbd21
DTSTAMP:20260420T120026Z
DESCRIPTION:Due to last evening's rain\, the game has been postponed until 
 2 pm today.\n\nJoin DSNMC at a Bethesda Big Train Summer Collegiate League
  baseball game and support DSNMC Executive Director\, Brooke Levey\, when 
 she is honored as a community hero. Following the game\, DSNMC guests are 
 invited to run the bases. There will also be a moon bounce available for f
 un!\n\nDSNMC has been granted 25 tickets for this event\, yet we hope for 
 a much bigger turnout. Once the 25 free tickets are reserved\, you can pur
 chase tickets at: https://bigtrain.ticketspice.com/big-train-vs-braves-jul
 y-16-2023\n\nSmall children only need tickets if they are using a seat. Ch
 ildren do not need to be under a certain age\, but only toddlers who can s
 it on the lap of a parent or guardian will be allowed free admission under
  this policy.
DTSTART;TZID=America/New_York:20230716T140000
DTEND;TZID=America/New_York:20230716T163000
LOCATION:
SUMMARY:Bethesda Big Train Baseball
END:VEVENT
END:VCALENDAR
