BEGIN:VCALENDAR
VERSION:2.0
PRODID:-//dsnmc.org//NONSGML kigkonsult.se iCalcreator 2.30.10//
CALSCALE:GREGORIAN
METHOD:PUBLISH
UID:a83e97f8-f720-484a-9546-e07e3496e4e5
X-WR-CALDESC:DSNMC members are invited to watch the Nationals play the Colo
 rado Rockies on Monday\, July 24th.\n\nWe have been awarded 50 tickets for
  this game - tickets will be distributed on a first-come basis and will be
  emailed to you prior to the game.\n\nFood will be available for purchase 
 at the game. Visit the Nationals' webpage to learn about food options and 
 parking options.\n\nLet's play ball!\n\n
X-WR-RELCALID:3cee69a36bcb3591cd60edd6325bb904
X-WR-TIMEZONE:America/New_York
BEGIN:VTIMEZONE
TZID:America/New_York
BEGIN:STANDARD
TZNAME:EST
DTSTART:20221106T020000
TZOFFSETFROM:-0400
TZOFFSETTO:-0500
RDATE:20231105T020000
RDATE:20241103T020000
END:STANDARD
BEGIN:DAYLIGHT
TZNAME:EDT
DTSTART:20230312T020000
TZOFFSETFROM:-0500
TZOFFSETTO:-0400
RDATE:20240310T020000
END:DAYLIGHT
END:VTIMEZONE
BEGIN:VEVENT
UID:adde88a7-9500-4021-ae27-d5590e10a517
DTSTAMP:20260420T120256Z
DESCRIPTION:DSNMC members are invited to watch the Nationals play the Color
 ado Rockies on Monday\, July 24th.\n\nWe have been awarded 50 tickets for 
 this game - tickets will be distributed on a first-come basis and will be 
 emailed to you prior to the game.\n\nFood will be available for purchase a
 t the game. Visit the Nationals' webpage to learn about food options and p
 arking options.\n\nLet's play ball!\n\n
DTSTART;TZID=America/New_York:20230724T190500
DTEND;TZID=America/New_York:20230724T220000
LOCATION:Nationals Park\, 1500 South Capitol Street\, SE\, Washington\, DC 
 20003 US
SUMMARY:Nationals Game for DSNMC Families
END:VEVENT
END:VCALENDAR
