BEGIN:VCALENDAR
VERSION:2.0
PRODID:-//dsnmc.org//NONSGML kigkonsult.se iCalcreator 2.30.10//
CALSCALE:GREGORIAN
METHOD:PUBLISH
UID:0d460329-11ad-4678-b5c8-1967a1a651c8
X-WR-CALDESC:Play mini golf and cool off with DSNMC on Tuesday\, August 1st
  at the Germantown SplashPark! The SplashPark and mini golf course are res
 erved for DSNMC families from 6-8 pm.\n\nThe SplashPark is one of the most
  popular features of South Germantown Recreational Park. Kids will have an
  excellent time and stay cool playing in the one-of-a-kind 280-jet water m
 aze\, cave with a waterfall\, water bucket drops\, slide\, and spraying an
 imals. Tables and umbrellas provide shaded rest areas. On-site restrooms\,
  changing rooms\, and vending machines are available. The SplashPark also 
 features a fun Jumping Pillow that will keep kids hopping all day long!\n
 \nAn 18-hole miniature golf course sits adjacent to the SplashPark. Design
 ed with delicate contour changes\, sloping greens\, and natural obstacles\
 , this accessible course will challenge golfers of all ages (including adu
 lts). Teens will meet at 6:30 to play mini golf in groups of 4.\n\nTickets
  are $4.00 per person. (All patrons age two and up who come into the Splas
 hPark must pay admission).\n\nBring your own picnic dinner - as well as ba
 thing suits and towels.  Dessert will be available to purchase from Kona I
 ce.\n\nThis event will occur rain or shine. During rainy days\, the Splash
 Park will remain open except in the case of extreme weather conditions (th
 under and lightning).\n\n
X-WR-RELCALID:c12e962da46a8e6295db7c63a883aab0
X-WR-TIMEZONE:America/New_York
BEGIN:VTIMEZONE
TZID:America/New_York
BEGIN:STANDARD
TZNAME:EST
DTSTART:20221106T020000
TZOFFSETFROM:-0400
TZOFFSETTO:-0500
RDATE:20231105T020000
RDATE:20241103T020000
END:STANDARD
BEGIN:DAYLIGHT
TZNAME:EDT
DTSTART:20230312T020000
TZOFFSETFROM:-0500
TZOFFSETTO:-0400
RDATE:20240310T020000
END:DAYLIGHT
END:VTIMEZONE
BEGIN:VEVENT
UID:475b0dec-0965-4833-8bd3-eb8db1333056
DTSTAMP:20260420T103609Z
DESCRIPTION:Play mini golf and cool off with DSNMC on Tuesday\, August 1st 
 at the Germantown SplashPark! The SplashPark and mini golf course are rese
 rved for DSNMC families from 6-8 pm.\n\nThe SplashPark is one of the most 
 popular features of South Germantown Recreational Park. Kids will have an 
 excellent time and stay cool playing in the one-of-a-kind 280-jet water ma
 ze\, cave with a waterfall\, water bucket drops\, slide\, and spraying ani
 mals. Tables and umbrellas provide shaded rest areas. On-site restrooms\, 
 changing rooms\, and vending machines are available. The SplashPark also f
 eatures a fun Jumping Pillow that will keep kids hopping all day long!\n\n
 An 18-hole miniature golf course sits adjacent to the SplashPark. Designed
  with delicate contour changes\, sloping greens\, and natural obstacles\, 
 this accessible course will challenge golfers of all ages (including adult
 s). Teens will meet at 6:30 to play mini golf in groups of 4.\n\nTickets a
 re $4.00 per person. (All patrons age two and up who come into the SplashP
 ark must pay admission).\n\nBring your own picnic dinner - as well as bath
 ing suits and towels.  Dessert will be available to purchase from Kona Ice
 .\n\nThis event will occur rain or shine. During rainy days\, the SplashPa
 rk will remain open except in the case of extreme weather conditions (thun
 der and lightning).\n\n
DTSTART;TZID=America/New_York:20230801T180000
DTEND;TZID=America/New_York:20230801T200000
LOCATION:South Germantown Recreation Center\, 18056 Central Park Circle \, 
 Boyds\, MD 20841 US
SUMMARY:SplashPark/Mini Golf Family Outing
END:VEVENT
END:VCALENDAR
