BEGIN:VCALENDAR
VERSION:2.0
PRODID:-//dsnmc.org//NONSGML kigkonsult.se iCalcreator 2.30.10//
CALSCALE:GREGORIAN
METHOD:PUBLISH
UID:5585d505-0e5c-4fe4-bb0f-371d10374b0e
X-WR-CALDESC:Join our Teen Hangout program every Thursday at 6:30 via Zoom!
  For Ages 12 - 17. Families are welcome to join.
X-WR-RELCALID:4290ed1e1c17c89fe7572242c0f38024
X-WR-TIMEZONE:America/New_York
BEGIN:VTIMEZONE
TZID:America/New_York
BEGIN:STANDARD
TZNAME:EST
DTSTART:20221106T020000
TZOFFSETFROM:-0400
TZOFFSETTO:-0500
RDATE:20231105T020000
RDATE:20241103T020000
END:STANDARD
BEGIN:DAYLIGHT
TZNAME:EDT
DTSTART:20230312T020000
TZOFFSETFROM:-0500
TZOFFSETTO:-0400
RDATE:20240310T020000
END:DAYLIGHT
END:VTIMEZONE
BEGIN:VEVENT
UID:6a9c55dc-a6dd-4d25-a8d2-4713dea644af
DTSTAMP:20260420T104208Z
DESCRIPTION:Join our Teen Hangout program every Thursday at 6:30 via Zoom! 
 For Ages 12 - 17. Families are welcome to join.
DTSTART;TZID=America/New_York:20230810T183000
DTEND;TZID=America/New_York:20230810T190000
LOCATION:https://us02web.zoom.us/j/83919769645
SUMMARY:Teen Hangout Social Meetings
END:VEVENT
END:VCALENDAR
