BEGIN:VCALENDAR
VERSION:2.0
PRODID:-//dsnmc.org//NONSGML kigkonsult.se iCalcreator 2.30.10//
CALSCALE:GREGORIAN
METHOD:PUBLISH
UID:a77068fc-ff86-4096-8d41-2502cde8dad6
X-WR-CALDESC:Teens and young adults - join DSNMC on Friday night\, August 1
 1th to watch VIVO under the stars at BlackRock Arts Center. The movie begi
 ns at 8:00 pm\, let's plan to meet Adrian at ?????? at 7:30 pm.\n\nVIVO is
  rated PG. It is Sony Pictures Animation's first-ever musical adventure fe
 aturing all-new original songs from Lin-Manuel Miranda\, which will take a
 udiences on an epic adventure to gorgeous and vibrant locations never befo
 re seen in animation.\n\nBring your most comfy blanket or lawn chair. Conc
 essions will be available for purchase\, and no outside drinks are allowed
 .\n\n\nWe welcome parents or other support personnel to stay with teens or
  adults who need supervision. DSNMC staff and volunteers will not be avail
 able to supervise individual participants. This event will end at 9:40 pm.
X-WR-RELCALID:ff45a31e36d149b2f1118f0816e8591a
X-WR-TIMEZONE:America/New_York
BEGIN:VTIMEZONE
TZID:America/New_York
BEGIN:STANDARD
TZNAME:EST
DTSTART:20221106T020000
TZOFFSETFROM:-0400
TZOFFSETTO:-0500
RDATE:20231105T020000
RDATE:20241103T020000
END:STANDARD
BEGIN:DAYLIGHT
TZNAME:EDT
DTSTART:20230312T020000
TZOFFSETFROM:-0500
TZOFFSETTO:-0400
RDATE:20240310T020000
END:DAYLIGHT
END:VTIMEZONE
BEGIN:VEVENT
UID:763613c7-280f-47b4-b534-c4afe0232206
DTSTAMP:20260420T104610Z
DESCRIPTION:Teens and young adults - join DSNMC on Friday night\, August 11
 th to watch VIVO under the stars at BlackRock Arts Center. The movie begin
 s at 8:00 pm\, let's plan to meet Adrian at ?????? at 7:30 pm.\n\nVIVO is 
 rated PG. It is Sony Pictures Animation's first-ever musical adventure fea
 turing all-new original songs from Lin-Manuel Miranda\, which will take au
 diences on an epic adventure to gorgeous and vibrant locations never befor
 e seen in animation.\n\nBring your most comfy blanket or lawn chair. Conce
 ssions will be available for purchase\, and no outside drinks are allowed.
 \n\n\nWe welcome parents or other support personnel to stay with teens or 
 adults who need supervision. DSNMC staff and volunteers will not be availa
 ble to supervise individual participants. This event will end at 9:40 pm.
DTSTART;TZID=America/New_York:20230811T193000
DTEND;TZID=America/New_York:20230811T214000
LOCATION:BlackRock Center for the Arts\, 12901 Town Commons Dr\, Germantown
 \, MD 20874 US
SUMMARY:Movies Under the Stars
END:VEVENT
END:VCALENDAR
