BEGIN:VCALENDAR
VERSION:2.0
PRODID:-//dsnmc.org//NONSGML kigkonsult.se iCalcreator 2.30.10//
CALSCALE:GREGORIAN
METHOD:PUBLISH
UID:50ca25ae-9183-4e8e-b7d1-ecfe151e76c5
X-WR-CALDESC:
X-WR-RELCALID:065ab2f469e0268a6db95888a3b7aa65
X-WR-TIMEZONE:America/New_York
BEGIN:VTIMEZONE
TZID:America/New_York
BEGIN:STANDARD
TZNAME:EST
DTSTART:20221106T020000
TZOFFSETFROM:-0400
TZOFFSETTO:-0500
RDATE:20231105T020000
RDATE:20241103T020000
END:STANDARD
BEGIN:DAYLIGHT
TZNAME:EDT
DTSTART:20230312T020000
TZOFFSETFROM:-0500
TZOFFSETTO:-0400
RDATE:20240310T020000
END:DAYLIGHT
END:VTIMEZONE
BEGIN:VEVENT
UID:3c4d7c16-00ab-4ce2-9014-9cd5adef7a21
DTSTAMP:20260420T103751Z
DESCRIPTION:
DTSTART;TZID=America/New_York:20230814T200000
DTEND;TZID=America/New_York:20230814T210000
LOCATION:
SUMMARY:No Executive Committee Meeting this month
END:VEVENT
END:VCALENDAR
