BEGIN:VCALENDAR
VERSION:2.0
PRODID:-//dsnmc.org//NONSGML kigkonsult.se iCalcreator 2.30.10//
CALSCALE:GREGORIAN
METHOD:PUBLISH
UID:b7e8a87a-20a3-434c-aef0-479ac0631079
X-WR-CALDESC:The DSNMC Education Committee is now meeting on the third Thur
 sday of each month from 7:15 pm-8:30 pm. \n\nCo-chairs: \nKalani Brown (ka
 laniuke@hotmail.com) and Carrie Swann (carrie.swann@gmail.com)\n\n\nJoin Z
 oom Meeting\nhttps://us02web.zoom.us/j/86288520613?pwd=TmIyZ3JDcmVCRUNuanR
 RWWNwT2h6QT09\n\nMeeting ID: 862 8852 0613\nPasscode: 785188\nOne tap mobi
 le\n+13017158592
X-WR-RELCALID:5d41e9f04bc95205646f18ed6c1b13cf
X-WR-TIMEZONE:America/New_York
BEGIN:VTIMEZONE
TZID:America/New_York
BEGIN:STANDARD
TZNAME:EST
DTSTART:20221106T020000
TZOFFSETFROM:-0400
TZOFFSETTO:-0500
RDATE:20231105T020000
RDATE:20241103T020000
END:STANDARD
BEGIN:DAYLIGHT
TZNAME:EDT
DTSTART:20230312T020000
TZOFFSETFROM:-0500
TZOFFSETTO:-0400
RDATE:20240310T020000
END:DAYLIGHT
END:VTIMEZONE
BEGIN:VEVENT
UID:782ff16e-0373-4efc-b5bb-ca3d9242f758
DTSTAMP:20260420T104249Z
DESCRIPTION:The DSNMC Education Committee is now meeting on the third Thurs
 day of each month from 7:15 pm-8:30 pm. \n\nCo-chairs: \nKalani Brown (kal
 aniuke@hotmail.com) and Carrie Swann (carrie.swann@gmail.com)\n\n\nJoin Zo
 om Meeting\nhttps://us02web.zoom.us/j/86288520613?pwd=TmIyZ3JDcmVCRUNuanRR
 WWNwT2h6QT09\n\nMeeting ID: 862 8852 0613\nPasscode: 785188\nOne tap mobil
 e\n+13017158592
DTSTART;TZID=America/New_York:20230817T190000
DTEND;TZID=America/New_York:20230817T200000
LOCATION:https://us02web.zoom.us/j/86288520613?pwd=TmIyZ3JDcmVCRUNuanRRWWNw
 T2h6QT09
SUMMARY:DSNMC Education Committee Meeting
END:VEVENT
END:VCALENDAR
