BEGIN:VCALENDAR
VERSION:2.0
PRODID:-//dsnmc.org//NONSGML kigkonsult.se iCalcreator 2.30.10//
CALSCALE:GREGORIAN
METHOD:PUBLISH
UID:efa78622-576a-4cc0-a5dc-a8899df3bc18
X-WR-CALDESC:Join DSNMC for a morning of swimming!  The Cedarbrook Swim and
  Tennis Club is open just for DSNMC families on Sunday morning\, August 20
 \, from 10 am to 12 noon.  The pool offers a 6-lane competition pool\, and
  a large diving well with a water slide and diving board. They also offer 
 a shaded kiddie wading pool and playground for their youngest guests.  In 
 order to ensure that we have enough lifeguards to keep everyone safe\, reg
 istration for this event will close on Wednesday\, August 16th.
X-WR-RELCALID:b2e4ead89684638c5a5540b83480d861
X-WR-TIMEZONE:America/New_York
BEGIN:VTIMEZONE
TZID:America/New_York
BEGIN:STANDARD
TZNAME:EST
DTSTART:20221106T020000
TZOFFSETFROM:-0400
TZOFFSETTO:-0500
RDATE:20231105T020000
RDATE:20241103T020000
END:STANDARD
BEGIN:DAYLIGHT
TZNAME:EDT
DTSTART:20230312T020000
TZOFFSETFROM:-0500
TZOFFSETTO:-0400
RDATE:20240310T020000
END:DAYLIGHT
END:VTIMEZONE
BEGIN:VEVENT
UID:888af1a0-7513-4c9a-9c0e-dc190f07ffbd
DTSTAMP:20260420T103621Z
DESCRIPTION:Join DSNMC for a morning of swimming!  The Cedarbrook Swim and 
 Tennis Club is open just for DSNMC families on Sunday morning\, August 20\
 , from 10 am to 12 noon.  The pool offers a 6-lane competition pool\, and 
 a large diving well with a water slide and diving board. They also offer a
  shaded kiddie wading pool and playground for their youngest guests.  In o
 rder to ensure that we have enough lifeguards to keep everyone safe\, regi
 stration for this event will close on Wednesday\, August 16th.
DTSTART;TZID=America/New_York:20230820T100000
DTEND;TZID=America/New_York:20230820T120000
LOCATION:Cedarbrook Swim and Tennis Club\, 10150 Cedar Lane\, Kensington\, 
 MD 20895 US
SUMMARY:DSNMC Swim Party
END:VEVENT
END:VCALENDAR
