BEGIN:VCALENDAR
VERSION:2.0
PRODID:-//dsnmc.org//NONSGML kigkonsult.se iCalcreator 2.30.10//
CALSCALE:GREGORIAN
METHOD:PUBLISH
UID:c4a8d26b-4280-4e56-ad08-1d001b42c0f6
X-WR-CALDESC:All are welcome to join our DEIB committee to help ensure that
  DSNMC is inclusive of our membership.  If you are interested in attending
  the meeting\, please email Joy at admin@dsnmc.org for the zoom link.
X-WR-RELCALID:0e473d7f95df9c81486a7abf7d61c707
X-WR-TIMEZONE:America/New_York
BEGIN:VTIMEZONE
TZID:America/New_York
BEGIN:STANDARD
TZNAME:EST
DTSTART:20221106T020000
TZOFFSETFROM:-0400
TZOFFSETTO:-0500
RDATE:20231105T020000
RDATE:20241103T020000
END:STANDARD
BEGIN:DAYLIGHT
TZNAME:EDT
DTSTART:20230312T020000
TZOFFSETFROM:-0500
TZOFFSETTO:-0400
RDATE:20240310T020000
END:DAYLIGHT
END:VTIMEZONE
BEGIN:VEVENT
UID:a745f94f-96e9-48d6-a564-6451260c6bc7
DTSTAMP:20260420T103810Z
DESCRIPTION:All are welcome to join our DEIB committee to help ensure that 
 DSNMC is inclusive of our membership.  If you are interested in attending 
 the meeting\, please email Joy at admin@dsnmc.org for the zoom link.
DTSTART;TZID=America/New_York:20230822T193000
DTEND;TZID=America/New_York:20230822T210000
LOCATION:
SUMMARY:Diversity\, Equity\, Inclusion and Belonging Meeting
END:VEVENT
END:VCALENDAR
